BEGIN:VCALENDAR
VERSION:2.0
PRODID:-//Southern Implants - ECPv6.15.20//NONSGML v1.0//EN
CALSCALE:GREGORIAN
METHOD:PUBLISH
X-WR-CALNAME:Southern Implants
X-ORIGINAL-URL:https://southernimplants.com
X-WR-CALDESC:Events for Southern Implants
REFRESH-INTERVAL;VALUE=DURATION:PT1H
X-Robots-Tag:noindex
X-PUBLISHED-TTL:PT1H
BEGIN:VTIMEZONE
TZID:Africa/Harare
BEGIN:STANDARD
TZOFFSETFROM:+0200
TZOFFSETTO:+0200
TZNAME:CAT
DTSTART:20230101T000000
END:STANDARD
END:VTIMEZONE
BEGIN:VEVENT
DTSTART;VALUE=DATE:20240923
DTEND;VALUE=DATE:20240926
DTSTAMP:20260419T200031
CREATED:20240610T112730Z
LAST-MODIFIED:20240610T113530Z
UID:10000880-1727049600-1727308799@southernimplants.com
SUMMARY:SASMFOS Pre-Congress workshop/ Cadaver Course
DESCRIPTION:Join us for an amazing Pre-Congress workshop on pterygoid and zygomatic implants.
URL:https://southernimplants.com/sims-event/sasmfos-pre-congress-workshop/
LOCATION:Wits Advanced Surgical Skills Laboratory\, Johannesburg\, Gauteng\, South Africa
CATEGORIES:SI HQ
END:VEVENT
END:VCALENDAR