BEGIN:VCALENDAR
VERSION:2.0
PRODID:-//Southern Implants - ECPv6.15.20//NONSGML v1.0//EN
CALSCALE:GREGORIAN
METHOD:PUBLISH
X-WR-CALNAME:Southern Implants
X-ORIGINAL-URL:https://southernimplants.com
X-WR-CALDESC:Events for Southern Implants
REFRESH-INTERVAL;VALUE=DURATION:PT1H
X-Robots-Tag:noindex
X-PUBLISHED-TTL:PT1H
BEGIN:VTIMEZONE
TZID:Africa/Harare
BEGIN:STANDARD
TZOFFSETFROM:+0200
TZOFFSETTO:+0200
TZNAME:CAT
DTSTART:20220101T000000
END:STANDARD
END:VTIMEZONE
BEGIN:VEVENT
DTSTART;VALUE=DATE:20240218
DTEND;VALUE=DATE:20240224
DTSTAMP:20260424T060523
CREATED:20231218T130945Z
LAST-MODIFIED:20231218T130945Z
UID:10000837-1708214400-1708732799@southernimplants.com
SUMMARY:O.R.C.A.A.
DESCRIPTION:Operation Re-dentulate Central America Association (O.R.C.A.A.) \nExpert Zygomatic and Pterygoid course \n 
URL:https://southernimplants.com/sims-event/o-r-c-a-a/
LOCATION:University of Francisco Marroquin\, Guatemala City\, Guatemala
CATEGORIES:USA and Canada
END:VEVENT
BEGIN:VEVENT
DTSTART;VALUE=DATE:20230718
DTEND;VALUE=DATE:20230722
DTSTAMP:20260424T060523
CREATED:20230509T084005Z
LAST-MODIFIED:20230509T084005Z
UID:10000741-1689638400-1689983999@southernimplants.com
SUMMARY:Single Tooth Implants with Dr Dennis Tarnow and Faculty
DESCRIPTION:Take your single tooth implant game to the next level! \nLive surgery hands-on implants course
URL:https://southernimplants.com/sims-event/single-tooth-implants-with-dr-dennis-tarnow-and-faculty-2/
LOCATION:University of Francisco Marroquin\, Guatemala City\, Guatemala
CATEGORIES:USA and Canada
ATTACH;FMTTYPE=image/jpeg:https://southernimplants.com/wp-content/uploads/SINA_TarnowCourse.jpg
END:VEVENT
END:VCALENDAR