BEGIN:VCALENDAR
VERSION:2.0
PRODID:-//Southern Implants - ECPv6.15.20//NONSGML v1.0//EN
CALSCALE:GREGORIAN
METHOD:PUBLISH
X-ORIGINAL-URL:https://southernimplants.com
X-WR-CALDESC:Events for Southern Implants
REFRESH-INTERVAL;VALUE=DURATION:PT1H
X-Robots-Tag:noindex
X-PUBLISHED-TTL:PT1H
BEGIN:VTIMEZONE
TZID:Africa/Harare
BEGIN:STANDARD
TZOFFSETFROM:+0200
TZOFFSETTO:+0200
TZNAME:CAT
DTSTART:20240101T000000
END:STANDARD
END:VTIMEZONE
BEGIN:VEVENT
DTSTART;VALUE=DATE:20251008
DTEND;VALUE=DATE:20251009
DTSTAMP:20260425T042211
CREATED:20251001T163712Z
LAST-MODIFIED:20251001T163831Z
UID:10001054-1759881600-1759967999@southernimplants.com
SUMMARY:* SADA Angoa Midlands
DESCRIPTION:Warmer Golf Club \nExhibitor cost: R4750
URL:https://southernimplants.com/sims-event/sada-angoa-midlands/
LOCATION:Algoa Midlands\, South Africa
CATEGORIES:South Africa
END:VEVENT
END:VCALENDAR