BEGIN:VCALENDAR
VERSION:2.0
PRODID:-//Southern Implants - ECPv6.15.20//NONSGML v1.0//EN
CALSCALE:GREGORIAN
METHOD:PUBLISH
X-ORIGINAL-URL:https://southernimplants.com
X-WR-CALDESC:Events for Southern Implants
REFRESH-INTERVAL;VALUE=DURATION:PT1H
X-Robots-Tag:noindex
X-PUBLISHED-TTL:PT1H
BEGIN:VTIMEZONE
TZID:Europe/Helsinki
BEGIN:DAYLIGHT
TZOFFSETFROM:+0200
TZOFFSETTO:+0300
TZNAME:EEST
DTSTART:20210328T010000
END:DAYLIGHT
BEGIN:STANDARD
TZOFFSETFROM:+0300
TZOFFSETTO:+0200
TZNAME:EET
DTSTART:20211031T010000
END:STANDARD
BEGIN:DAYLIGHT
TZOFFSETFROM:+0200
TZOFFSETTO:+0300
TZNAME:EEST
DTSTART:20220327T010000
END:DAYLIGHT
BEGIN:STANDARD
TZOFFSETFROM:+0300
TZOFFSETTO:+0200
TZNAME:EET
DTSTART:20221030T010000
END:STANDARD
BEGIN:DAYLIGHT
TZOFFSETFROM:+0200
TZOFFSETTO:+0300
TZNAME:EEST
DTSTART:20230326T010000
END:DAYLIGHT
BEGIN:STANDARD
TZOFFSETFROM:+0300
TZOFFSETTO:+0200
TZNAME:EET
DTSTART:20231029T010000
END:STANDARD
END:VTIMEZONE
BEGIN:VEVENT
DTSTART;TZID=Europe/Helsinki:20220210T080000
DTEND;TZID=Europe/Helsinki:20220210T170000
DTSTAMP:20260420T191008
CREATED:20220222T072802Z
LAST-MODIFIED:20220222T072802Z
UID:10000481-1644480000-1644512400@southernimplants.com
SUMMARY:SI Tour
DESCRIPTION:
URL:https://southernimplants.com/sims-event/si-tour-2/
CATEGORIES:France
END:VEVENT
BEGIN:VEVENT
DTSTART;TZID=Europe/Helsinki:20220218T080000
DTEND;TZID=Europe/Helsinki:20220218T170000
DTSTAMP:20260420T191008
CREATED:20220222T073209Z
LAST-MODIFIED:20220222T073209Z
UID:10000483-1645171200-1645203600@southernimplants.com
SUMMARY:Southern Evening by Pietro Ferraris
DESCRIPTION:
URL:https://southernimplants.com/sims-event/southern-evening-by-pietro-ferraris-2/
CATEGORIES:Italy
END:VEVENT
END:VCALENDAR