BEGIN:VCALENDAR
VERSION:2.0
PRODID:-//Southern Implants - ECPv6.15.20//NONSGML v1.0//EN
CALSCALE:GREGORIAN
METHOD:PUBLISH
X-WR-CALNAME:Southern Implants
X-ORIGINAL-URL:https://southernimplants.com
X-WR-CALDESC:Events for Southern Implants
REFRESH-INTERVAL;VALUE=DURATION:PT1H
X-Robots-Tag:noindex
X-PUBLISHED-TTL:PT1H
BEGIN:VTIMEZONE
TZID:Europe/Helsinki
BEGIN:DAYLIGHT
TZOFFSETFROM:+0200
TZOFFSETTO:+0300
TZNAME:EEST
DTSTART:20210328T010000
END:DAYLIGHT
BEGIN:STANDARD
TZOFFSETFROM:+0300
TZOFFSETTO:+0200
TZNAME:EET
DTSTART:20211031T010000
END:STANDARD
BEGIN:DAYLIGHT
TZOFFSETFROM:+0200
TZOFFSETTO:+0300
TZNAME:EEST
DTSTART:20220327T010000
END:DAYLIGHT
BEGIN:STANDARD
TZOFFSETFROM:+0300
TZOFFSETTO:+0200
TZNAME:EET
DTSTART:20221030T010000
END:STANDARD
BEGIN:DAYLIGHT
TZOFFSETFROM:+0200
TZOFFSETTO:+0300
TZNAME:EEST
DTSTART:20230326T010000
END:DAYLIGHT
BEGIN:STANDARD
TZOFFSETFROM:+0300
TZOFFSETTO:+0200
TZNAME:EET
DTSTART:20231029T010000
END:STANDARD
END:VTIMEZONE
BEGIN:VTIMEZONE
TZID:UTC
BEGIN:STANDARD
TZOFFSETFROM:+0000
TZOFFSETTO:+0000
TZNAME:UTC
DTSTART:20210101T000000
END:STANDARD
END:VTIMEZONE
BEGIN:VEVENT
DTSTART;TZID=Europe/Helsinki:20220922T080000
DTEND;TZID=Europe/Helsinki:20220924T170000
DTSTAMP:20260421T080726
CREATED:20220711T070656Z
LAST-MODIFIED:20220711T070656Z
UID:10000621-1663833600-1664038800@southernimplants.com
SUMMARY:Namibian Dental Association Conference
DESCRIPTION:
URL:https://southernimplants.com/sims-event/namibian-dental-association-conference-2/
CATEGORIES:Namibia
END:VEVENT
BEGIN:VEVENT
DTSTART;TZID=Europe/Helsinki:20220929T080000
DTEND;TZID=Europe/Helsinki:20221001T170000
DTSTAMP:20260421T080726
CREATED:20220428T120041Z
LAST-MODIFIED:20220428T120041Z
UID:10000183-1664438400-1664643600@southernimplants.com
SUMMARY:European Association for Osseointegration (EAO) Congress 2022
DESCRIPTION:View Programme
URL:https://southernimplants.com/sims-event/european-association-for-osseointegration-eao-congress-2022/
LOCATION:Geneva\, Switzerland
END:VEVENT
BEGIN:VEVENT
DTSTART;VALUE=DATE:20221001
DTEND;VALUE=DATE:20221002
DTSTAMP:20260421T080726
CREATED:20220912T061325Z
LAST-MODIFIED:20260212T032211Z
UID:10000321-1664582400-1664668799@southernimplants.com
SUMMARY:Osseodensification: Optimize the Site\, Optimize the Outcome
DESCRIPTION:Presented by:Dr. Costa NicolopoulosDr. Petros Yuvanoglou \nMore info: \nPhone: 210 8982881- 210 8982817 \nEmail: info@southernimplants.gr \n 
URL:https://southernimplants.com/sims-event/osseodensification-optimize-the-site-optimize-the-outcome/
LOCATION:Glyfada\, Athens\, Greece
CATEGORIES:Greece
END:VEVENT
BEGIN:VEVENT
DTSTART;VALUE=DATE:20221003
DTEND;VALUE=DATE:20221004
DTSTAMP:20260421T080726
CREATED:20220429T064648Z
LAST-MODIFIED:20220429T064648Z
UID:10000562-1664755200-1664841599@southernimplants.com
SUMMARY:Public Holiday: Day of German Unity
DESCRIPTION:
URL:https://southernimplants.com/sims-event/public-holiday-day-of-german-unity-2/
CATEGORIES:Germany
END:VEVENT
BEGIN:VEVENT
DTSTART;VALUE=DATE:20221005
DTEND;VALUE=DATE:20221006
DTSTAMP:20260421T080726
CREATED:20220428T141426Z
LAST-MODIFIED:20220428T141426Z
UID:10000532-1664928000-1665014399@southernimplants.com
SUMMARY:Public Holiday: Republic Day
DESCRIPTION:
URL:https://southernimplants.com/sims-event/public-holiday-republic-day-2-2/
CATEGORIES:Portugal
END:VEVENT
BEGIN:VEVENT
DTSTART;VALUE=DATE:20221006
DTEND;VALUE=DATE:20221007
DTSTAMP:20260421T080726
CREATED:20220428T143516Z
LAST-MODIFIED:20220428T143516Z
UID:10000246-1665014400-1665100799@southernimplants.com
SUMMARY:Public Holiday: Constitution Day
DESCRIPTION:
URL:https://southernimplants.com/sims-event/public-holiday-constitution-day/
CATEGORIES:Spain
END:VEVENT
BEGIN:VEVENT
DTSTART;VALUE=DATE:20221008
DTEND;VALUE=DATE:20221010
DTSTAMP:20260421T080726
CREATED:20220826T074827Z
LAST-MODIFIED:20220826T074827Z
UID:10000319-1665187200-1665359999@southernimplants.com
SUMMARY:Digital Dentistry Society SA Conference 2022
DESCRIPTION:The Digital Dentistry Society South Africa (DDS SA)\, the international scientific society founded to promote knowledge of digital dentistry globally\, is planning its third even conference in Africa – and it’s going to be in Durban on Saturday 8th October 2022! \nNot only do we have a full day of leading speakers and a trade expo lined up for you on Saturday 8 October 2022\, we have an additional full day DSD workshop available on Sunday 9th October with Dr Mark Bowes. \nLimited seats available\, be sure to book online now to avoid disappointment! \nDDS leads the world into the digital dentistry era through promoting knowledge of digital dentistry globally. Its mission includes imparting digital dentistry education\, guidelines\, professional recognition and assistance to its affiliates\, while connecting dentists\, students\, dental technicians\, software developers and engineers to collaborate on opportunities for advancement of the practice of Digital Dentistry worldwide. \nOur conferences aim to share with local practitioners the scientific potential\, capability and achievements of Digital Dentistry globally while promoting Digital Dentistry in Southern Africa\, as shared by the world’s leaders in dental science and technology. \nHighlighting the Digital Dentistry revolution\, the conference showcases the latest trends in technology\, software\, processes and suppliers\, as well as demonstrates strategies to elevate work flows from conventional analogue applications\, to instant digital response solutions which not only marginalize error\, but exponentially elevate clinical results. \nSee you in Durban!
URL:https://southernimplants.com/sims-event/digital-dentistry-society-sa-conference-2022/
LOCATION:The Capital Zimbali\, Durban\, South Africa
CATEGORIES:SI HQ
END:VEVENT
BEGIN:VEVENT
DTSTART;TZID=Europe/Helsinki:20221008T080000
DTEND;TZID=Europe/Helsinki:20221008T170000
DTSTAMP:20260421T080726
CREATED:20220428T132221Z
LAST-MODIFIED:20220428T132221Z
UID:10000504-1665216000-1665248400@southernimplants.com
SUMMARY:Southern Implants Hands-on Implant Day
DESCRIPTION:
URL:https://southernimplants.com/sims-event/southern-implants-hands-on-implant-day-2/
LOCATION:Polokwane\, South Africa
CATEGORIES:SI HQ
END:VEVENT
BEGIN:VEVENT
DTSTART;VALUE=DATE:20221010
DTEND;VALUE=DATE:20221011
DTSTAMP:20260421T080726
CREATED:20220429T073418Z
LAST-MODIFIED:20220429T073418Z
UID:10000280-1665360000-1665446399@southernimplants.com
SUMMARY:Public Holiday: Columbus Day
DESCRIPTION:
URL:https://southernimplants.com/sims-event/public-holiday-columbus-day/
CATEGORIES:USA and Canada
END:VEVENT
BEGIN:VEVENT
DTSTART;VALUE=DATE:20221012
DTEND;VALUE=DATE:20221013
DTSTAMP:20260421T080726
CREATED:20220428T143406Z
LAST-MODIFIED:20220428T143406Z
UID:10000550-1665532800-1665619199@southernimplants.com
SUMMARY:Public Holiday: Hispanic Day
DESCRIPTION:
URL:https://southernimplants.com/sims-event/public-holiday-hispanic-day-2/
CATEGORIES:Spain
END:VEVENT
BEGIN:VEVENT
DTSTART;TZID=Europe/Helsinki:20221014T080000
DTEND;TZID=Europe/Helsinki:20221016T170000
DTSTAMP:20260421T080726
CREATED:20220428T121449Z
LAST-MODIFIED:20220428T121449Z
UID:10000490-1665734400-1665939600@southernimplants.com
SUMMARY:Southern Implants European Conference (SIEC) 2022
DESCRIPTION:Accelerated treatment protocols for better patient outcomes
URL:https://southernimplants.com/sims-event/southern-implants-european-conference-siec-2022-2/
LOCATION:Hôtel Radisson Blu\, 223 Promenade des Anglais\, Nice\, France
CATEGORIES:France
END:VEVENT
BEGIN:VEVENT
DTSTART;TZID=UTC:20221014T080000
DTEND;TZID=UTC:20221016T170000
DTSTAMP:20260421T080726
CREATED:20220922T120017Z
LAST-MODIFIED:20220922T120017Z
UID:10000334-1665734400-1665939600@southernimplants.com
SUMMARY:ITI Congress South Africa
DESCRIPTION:International Team for Implantology (ITI) \nHands on sessions. \nFull day of lectures. \nBreakfast with a master.
URL:https://southernimplants.com/sims-event/iti-congress-south-africa/
LOCATION:Marriott Hotel Melrose Arch\, Johannesburg\, South Africa
CATEGORIES:SI HQ
END:VEVENT
BEGIN:VEVENT
DTSTART;TZID=Europe/Helsinki:20221015T080000
DTEND;TZID=Europe/Helsinki:20221015T170000
DTSTAMP:20260421T080726
CREATED:20220428T131849Z
LAST-MODIFIED:20220428T131849Z
UID:10000197-1665820800-1665853200@southernimplants.com
SUMMARY:Aesthetic Crown Lengthening
DESCRIPTION:Presented by Dr Howard Gluckmann
URL:https://southernimplants.com/sims-event/aesthetic-crown-lengthening/
LOCATION:Implant and Aesthetic Academy (IAA)\, Cape Town\, South Africa
CATEGORIES:SI HQ
END:VEVENT
BEGIN:VEVENT
DTSTART;TZID=Europe/Helsinki:20221021T080000
DTEND;TZID=Europe/Helsinki:20221023T170000
DTSTAMP:20260421T080726
CREATED:20220428T132033Z
LAST-MODIFIED:20220428T132034Z
UID:10000198-1666339200-1666544400@southernimplants.com
SUMMARY:Facial Aesthetics - Module 7
DESCRIPTION:Presented by Dr Howard Gluckmann
URL:https://southernimplants.com/sims-event/facial-aesthetics-module-7/
LOCATION:Implant and Aesthetic Academy (IAA)\, Cape Town\, South Africa
CATEGORIES:SI HQ
END:VEVENT
BEGIN:VEVENT
DTSTART;VALUE=DATE:20221024
DTEND;VALUE=DATE:20221025
DTSTAMP:20260421T080726
CREATED:20220428T141933Z
LAST-MODIFIED:20220428T141933Z
UID:10000233-1666569600-1666655999@southernimplants.com
SUMMARY:Public Holiday: Labour Day
DESCRIPTION:
URL:https://southernimplants.com/sims-event/public-holiday-labour-day-2/
CATEGORIES:New Zealand
END:VEVENT
BEGIN:VEVENT
DTSTART;VALUE=DATE:20221028
DTEND;VALUE=DATE:20221029
DTSTAMP:20260421T080726
CREATED:20220429T063933Z
LAST-MODIFIED:20220429T063933Z
UID:10000555-1666915200-1667001599@southernimplants.com
SUMMARY:Public Holiday: Ochi Day
DESCRIPTION:
URL:https://southernimplants.com/sims-event/public-holiday-ochi-day-2/
CATEGORIES:Greece
END:VEVENT
BEGIN:VEVENT
DTSTART;VALUE=DATE:20221028
DTEND;VALUE=DATE:20221030
DTSTAMP:20260421T080726
CREATED:20220428T135427Z
LAST-MODIFIED:20220428T135427Z
UID:10000524-1666915200-1667087999@southernimplants.com
SUMMARY:Public Holiday: Republic Day
DESCRIPTION:
URL:https://southernimplants.com/sims-event/public-holiday-republic-day-4/
CATEGORIES:Turkey
END:VEVENT
BEGIN:VEVENT
DTSTART;VALUE=DATE:20221031
DTEND;VALUE=DATE:20221101
DTSTAMP:20260421T080726
CREATED:20220428T134313Z
LAST-MODIFIED:20220428T134313Z
UID:10000208-1667174400-1667260799@southernimplants.com
SUMMARY:Public Holiday: October Bank Holiday
DESCRIPTION:
URL:https://southernimplants.com/sims-event/public-holiday-october-bank-holiday/
CATEGORIES:UK & Ireland
END:VEVENT
BEGIN:VEVENT
DTSTART;VALUE=DATE:20221031
DTEND;VALUE=DATE:20221101
DTSTAMP:20260421T080726
CREATED:20220914T124710Z
LAST-MODIFIED:20220914T124710Z
UID:10000325-1667174400-1667260799@southernimplants.com
SUMMARY:Southern Perio Basic Course
DESCRIPTION:1 day course\nFocus: Basic implantology (straight DC) \nLecturer not confirmed as yet
URL:https://southernimplants.com/sims-event/southern-perio-basic-course/
LOCATION:Tygerberg UWC\, Cape Town\, South Africa
CATEGORIES:SI HQ
END:VEVENT
BEGIN:VEVENT
DTSTART;VALUE=DATE:20221101
DTEND;VALUE=DATE:20221102
DTSTAMP:20260421T080726
CREATED:20220428T141510Z
LAST-MODIFIED:20220429T064817Z
UID:10000228-1667260800-1667347199@southernimplants.com
SUMMARY:Public Holiday: All Saints' Day
DESCRIPTION:
URL:https://southernimplants.com/sims-event/public-holiday-all-saints-day/
CATEGORIES:Spain
END:VEVENT
BEGIN:VEVENT
DTSTART;VALUE=DATE:20221101
DTEND;VALUE=DATE:20221102
DTSTAMP:20260421T080726
CREATED:20220429T064734Z
LAST-MODIFIED:20220429T064734Z
UID:10000563-1667260800-1667347199@southernimplants.com
SUMMARY:Public Holiday: All Saints' Day
DESCRIPTION:
URL:https://southernimplants.com/sims-event/public-holiday-all-saints-day-2-2/
CATEGORIES:Italy
END:VEVENT
BEGIN:VEVENT
DTSTART;VALUE=DATE:20221101
DTEND;VALUE=DATE:20221102
DTSTAMP:20260421T080726
CREATED:20220429T064811Z
LAST-MODIFIED:20220429T064811Z
UID:10000564-1667260800-1667347199@southernimplants.com
SUMMARY:Public Holiday: All Saints' Day
DESCRIPTION:
URL:https://southernimplants.com/sims-event/public-holiday-all-saints-day-3-2/
CATEGORIES:Portugal
END:VEVENT
BEGIN:VEVENT
DTSTART;VALUE=DATE:20221101
DTEND;VALUE=DATE:20221102
DTSTAMP:20260421T080726
CREATED:20220429T065545Z
LAST-MODIFIED:20220429T065545Z
UID:10000572-1667260800-1667347199@southernimplants.com
SUMMARY:Public Holiday: All Saints' Day
DESCRIPTION:
URL:https://southernimplants.com/sims-event/public-holiday-all-saints-day-4-2/
CATEGORIES:France
END:VEVENT
BEGIN:VEVENT
DTSTART;VALUE=DATE:20221101
DTEND;VALUE=DATE:20221102
DTSTAMP:20260421T080726
CREATED:20220429T080902Z
LAST-MODIFIED:20220429T080902Z
UID:10000290-1667260800-1667347199@southernimplants.com
SUMMARY:Public Holiday: All Saints' Day
DESCRIPTION:
URL:https://southernimplants.com/sims-event/public-holiday-all-saints-day-5/
CATEGORIES:Belgium
END:VEVENT
BEGIN:VEVENT
DTSTART;VALUE=DATE:20221104
DTEND;VALUE=DATE:20221105
DTSTAMP:20260421T080726
CREATED:20220428T140739Z
LAST-MODIFIED:20220428T140739Z
UID:10000223-1667520000-1667606399@southernimplants.com
SUMMARY:Public Holiday: Day of Unity
DESCRIPTION:
URL:https://southernimplants.com/sims-event/public-holiday-day-of-unity/
CATEGORIES:Russia
END:VEVENT
BEGIN:VEVENT
DTSTART;VALUE=DATE:20221111
DTEND;VALUE=DATE:20221112
DTSTAMP:20260421T080726
CREATED:20220429T065639Z
LAST-MODIFIED:20220429T065639Z
UID:10000573-1668124800-1668211199@southernimplants.com
SUMMARY:Public Holiday: Armistice Day
DESCRIPTION:
URL:https://southernimplants.com/sims-event/public-holiday-armistice-day-3/
CATEGORIES:France
END:VEVENT
BEGIN:VEVENT
DTSTART;VALUE=DATE:20221111
DTEND;VALUE=DATE:20221112
DTSTAMP:20260421T080726
CREATED:20220429T073856Z
LAST-MODIFIED:20220429T073856Z
UID:10000281-1668124800-1668211199@southernimplants.com
SUMMARY:Public Holiday: Veterans Day
DESCRIPTION:
URL:https://southernimplants.com/sims-event/public-holiday-veterans-day/
CATEGORIES:USA and Canada
END:VEVENT
BEGIN:VEVENT
DTSTART;VALUE=DATE:20221111
DTEND;VALUE=DATE:20221112
DTSTAMP:20260421T080726
CREATED:20220429T080942Z
LAST-MODIFIED:20220429T080942Z
UID:10000291-1668124800-1668211199@southernimplants.com
SUMMARY:Public Holiday: Armistice Day
DESCRIPTION:
URL:https://southernimplants.com/sims-event/public-holiday-armistice-day-2/
CATEGORIES:Belgium
END:VEVENT
BEGIN:VEVENT
DTSTART;TZID=Europe/Helsinki:20221117T080000
DTEND;TZID=Europe/Helsinki:20221119T170000
DTSTAMP:20260421T080726
CREATED:20220627T111012Z
LAST-MODIFIED:20220627T111012Z
UID:10000313-1668672000-1668877200@southernimplants.com
SUMMARY:UK visit to HQ
DESCRIPTION:UK clients visit to Head Office.
URL:https://southernimplants.com/sims-event/uk-visit-to-hq/
LOCATION:SI Head Office\, 1 Albert Road\, Irene\, South Africa
CATEGORIES:SI HQ
END:VEVENT
BEGIN:VEVENT
DTSTART;VALUE=DATE:20221124
DTEND;VALUE=DATE:20221125
DTSTAMP:20260421T080726
CREATED:20220429T074001Z
LAST-MODIFIED:20220429T074001Z
UID:10000282-1669248000-1669334399@southernimplants.com
SUMMARY:Public Holiday: Thanksgiving
DESCRIPTION:
URL:https://southernimplants.com/sims-event/public-holiday-thanksgiving/
CATEGORIES:USA and Canada
END:VEVENT
END:VCALENDAR