BEGIN:VCALENDAR
VERSION:2.0
PRODID:-//Southern Implants - ECPv6.15.20//NONSGML v1.0//EN
CALSCALE:GREGORIAN
METHOD:PUBLISH
X-ORIGINAL-URL:https://southernimplants.com
X-WR-CALDESC:Events for Southern Implants
REFRESH-INTERVAL;VALUE=DURATION:PT1H
X-Robots-Tag:noindex
X-PUBLISHED-TTL:PT1H
BEGIN:VTIMEZONE
TZID:Europe/Helsinki
BEGIN:DAYLIGHT
TZOFFSETFROM:+0200
TZOFFSETTO:+0300
TZNAME:EEST
DTSTART:20210328T010000
END:DAYLIGHT
BEGIN:STANDARD
TZOFFSETFROM:+0300
TZOFFSETTO:+0200
TZNAME:EET
DTSTART:20211031T010000
END:STANDARD
BEGIN:DAYLIGHT
TZOFFSETFROM:+0200
TZOFFSETTO:+0300
TZNAME:EEST
DTSTART:20220327T010000
END:DAYLIGHT
BEGIN:STANDARD
TZOFFSETFROM:+0300
TZOFFSETTO:+0200
TZNAME:EET
DTSTART:20221030T010000
END:STANDARD
BEGIN:DAYLIGHT
TZOFFSETFROM:+0200
TZOFFSETTO:+0300
TZNAME:EEST
DTSTART:20230326T010000
END:DAYLIGHT
BEGIN:STANDARD
TZOFFSETFROM:+0300
TZOFFSETTO:+0200
TZNAME:EET
DTSTART:20231029T010000
END:STANDARD
END:VTIMEZONE
BEGIN:VEVENT
DTSTART;TZID=Europe/Helsinki:20220624T080000
DTEND;TZID=Europe/Helsinki:20220625T170000
DTSTAMP:20260421T004706
CREATED:20220428T131145Z
LAST-MODIFIED:20220428T131145Z
UID:10000496-1656057600-1656176400@southernimplants.com
SUMMARY:Immediate implant protocol with PET
DESCRIPTION:Presented by Dr Howard Gluckmann
URL:https://southernimplants.com/sims-event/immediate-implant-protocol-with-pet-2/
LOCATION:Implant and Aesthetic Academy (IAA)\, Cape Town\, South Africa
CATEGORIES:SI HQ
END:VEVENT
BEGIN:VEVENT
DTSTART;VALUE=DATE:20220701
DTEND;VALUE=DATE:20220702
DTSTAMP:20260421T004706
CREATED:20220429T074433Z
LAST-MODIFIED:20220429T074433Z
UID:10000589-1656633600-1656719999@southernimplants.com
SUMMARY:Public Holiday: Canada Day
DESCRIPTION:
URL:https://southernimplants.com/sims-event/public-holiday-canada-day-2/
CATEGORIES:USA and Canada
END:VEVENT
BEGIN:VEVENT
DTSTART;VALUE=DATE:20220702
DTEND;VALUE=DATE:20220703
DTSTAMP:20260421T004706
CREATED:20220530T113848Z
LAST-MODIFIED:20220530T113848Z
UID:10000612-1656720000-1656806399@southernimplants.com
SUMMARY:Co-Axis® Implants Hands-on Session
DESCRIPTION:
URL:https://southernimplants.com/sims-event/co-axis-implants-hands-on-session-2/
LOCATION:SI Head Office\, 1 Albert Road\, Irene\, South Africa
CATEGORIES:SI HQ
ATTACH;FMTTYPE=image/jpeg:https://southernimplants.com/wp-content/uploads/HandsOn_Email.jpg
END:VEVENT
BEGIN:VEVENT
DTSTART;VALUE=DATE:20220704
DTEND;VALUE=DATE:20220705
DTSTAMP:20260421T004706
CREATED:20220429T072615Z
LAST-MODIFIED:20220429T072615Z
UID:10000583-1656892800-1656979199@southernimplants.com
SUMMARY:Public Holiday: Independence Day
DESCRIPTION:
URL:https://southernimplants.com/sims-event/public-holiday-independence-day-2/
CATEGORIES:USA and Canada
END:VEVENT
BEGIN:VEVENT
DTSTART;VALUE=DATE:20220707
DTEND;VALUE=DATE:20220708
DTSTAMP:20260421T004706
CREATED:20220511T133455Z
LAST-MODIFIED:20220511T133455Z
UID:10000602-1657152000-1657238399@southernimplants.com
SUMMARY:Integrating Digital Workflow Into Your Practice
DESCRIPTION:Presented by: Charles Malthieu\, Antoine Blandel\, Jean-Pierre Gardella
URL:https://southernimplants.com/sims-event/integrating-digital-workflow-into-your-practice-2/
LOCATION:Grand Hotel Roi Rene\, France
CATEGORIES:France
END:VEVENT
BEGIN:VEVENT
DTSTART;VALUE=DATE:20220708
DTEND;VALUE=DATE:20220713
DTSTAMP:20260421T004706
CREATED:20220428T135225Z
LAST-MODIFIED:20220428T135225Z
UID:10000521-1657238400-1657670399@southernimplants.com
SUMMARY:Public Holiday: Kurban Bayrami
DESCRIPTION:
URL:https://southernimplants.com/sims-event/public-holiday-kurban-bayrami-2/
CATEGORIES:Turkey
END:VEVENT
BEGIN:VEVENT
DTSTART;VALUE=DATE:20220711
DTEND;VALUE=DATE:20220713
DTSTAMP:20260421T004706
CREATED:20220428T134719Z
LAST-MODIFIED:20220428T134719Z
UID:10000211-1657497600-1657670399@southernimplants.com
SUMMARY:Public Holiday: Eid Al Adha
DESCRIPTION:
URL:https://southernimplants.com/sims-event/public-holiday-eid-al-adha/
CATEGORIES:UAE
END:VEVENT
BEGIN:VEVENT
DTSTART;TZID=Europe/Helsinki:20220713T080000
DTEND;TZID=Europe/Helsinki:20220713T170000
DTSTAMP:20260421T004706
CREATED:20220624T124004Z
LAST-MODIFIED:20260212T031818Z
UID:10000310-1657699200-1657731600@southernimplants.com
SUMMARY:Factory Tour & EthOss Hands-On
DESCRIPTION:
URL:https://southernimplants.com/sims-event/factory-tour-ethoss-hands-on/
LOCATION:SI Head Office\, 1 Albert Road\, Irene\, South Africa
CATEGORIES:SI HQ
END:VEVENT
BEGIN:VEVENT
DTSTART;TZID=Europe/Helsinki:20220713T183000
DTEND;TZID=Europe/Helsinki:20220713T203000
DTSTAMP:20260421T004706
CREATED:20220505T070232Z
LAST-MODIFIED:20220505T070232Z
UID:10000598-1657737000-1657744200@southernimplants.com
SUMMARY:Dentistry photography evening with Dr Alexander De Rossi
DESCRIPTION:In collaboration with ODigital Srl
URL:https://southernimplants.com/sims-event/dentistry-photography-evening-with-dr-alexander-de-rossi-2/
LOCATION:San Marco Hotel\, Verona\, Italy
CATEGORIES:Italy
END:VEVENT
BEGIN:VEVENT
DTSTART;VALUE=DATE:20220714
DTEND;VALUE=DATE:20220715
DTSTAMP:20260421T004706
CREATED:20220429T065321Z
LAST-MODIFIED:20220429T065321Z
UID:10000264-1657756800-1657843199@southernimplants.com
SUMMARY:Public Holiday: Bastille Day
DESCRIPTION:
URL:https://southernimplants.com/sims-event/public-holiday-bastille-day/
CATEGORIES:France
END:VEVENT
BEGIN:VEVENT
DTSTART;VALUE=DATE:20220715
DTEND;VALUE=DATE:20220716
DTSTAMP:20260421T004706
CREATED:20220428T135306Z
LAST-MODIFIED:20220428T135306Z
UID:10000217-1657843200-1657929599@southernimplants.com
SUMMARY:Public Holiday: Democracy and National Solidarity Day
DESCRIPTION:
URL:https://southernimplants.com/sims-event/public-holiday-democracy-and-national-solidarity-day/
CATEGORIES:Turkey
END:VEVENT
BEGIN:VEVENT
DTSTART;VALUE=DATE:20220715
DTEND;VALUE=DATE:20220717
DTSTAMP:20260421T004706
CREATED:20220511T132401Z
LAST-MODIFIED:20220511T132401Z
UID:10000599-1657843200-1658015999@southernimplants.com
SUMMARY:II Zygoma Day
DESCRIPTION:
URL:https://southernimplants.com/sims-event/ii-zygoma-day-2/
LOCATION:Grand Hotel Baglioni\, Florence\, Italy
CATEGORIES:Italy
END:VEVENT
BEGIN:VEVENT
DTSTART;VALUE=DATE:20220716
DTEND;VALUE=DATE:20220717
DTSTAMP:20260421T004706
CREATED:20220613T113654Z
LAST-MODIFIED:20220613T113654Z
UID:10000613-1657929600-1658015999@southernimplants.com
SUMMARY:SAAAD: A-Z of Implant Assisted Prosthetics
DESCRIPTION:South African Academy of Aesthetic Dentistry \nhttps://saaad.co.za/events/seminars/a-z-of-implant-assisted-prosthetics-ct \nFollow up why Southern not part of this conference
URL:https://southernimplants.com/sims-event/saaad-a-z-of-implant-assisted-prosthetics-2/
LOCATION:Cape Town\, Breakwater Lodge\, South Africa
END:VEVENT
BEGIN:VEVENT
DTSTART;VALUE=DATE:20220721
DTEND;VALUE=DATE:20220722
DTSTAMP:20260421T004706
CREATED:20220429T080745Z
LAST-MODIFIED:20220429T080745Z
UID:10000593-1658361600-1658447999@southernimplants.com
SUMMARY:Public Holiday: National Day
DESCRIPTION:
URL:https://southernimplants.com/sims-event/public-holiday-national-day-3-2/
CATEGORIES:Belgium
END:VEVENT
BEGIN:VEVENT
DTSTART;TZID=Europe/Helsinki:20220721T080000
DTEND;TZID=Europe/Helsinki:20220723T170000
DTSTAMP:20260421T004706
CREATED:20220428T131258Z
LAST-MODIFIED:20220428T131258Z
UID:10000497-1658390400-1658595600@southernimplants.com
SUMMARY:Advanced Restorative - Module 4
DESCRIPTION:Presented by Dr Howard Gluckmann
URL:https://southernimplants.com/sims-event/advanced-restorative-module-4-2/
LOCATION:Implant and Aesthetic Academy (IAA)\, Cape Town\, South Africa
CATEGORIES:SI HQ
END:VEVENT
BEGIN:VEVENT
DTSTART;VALUE=DATE:20220722
DTEND;VALUE=DATE:20220901
DTSTAMP:20260421T004706
CREATED:20220519T072524Z
LAST-MODIFIED:20220519T072524Z
UID:10000603-1658448000-1661990399@southernimplants.com
SUMMARY:Northern Hemisphere Summer Holiday
DESCRIPTION:
URL:https://southernimplants.com/sims-event/northern-hemisphere-summer-holiday-2/
END:VEVENT
BEGIN:VEVENT
DTSTART;VALUE=DATE:20220723
DTEND;VALUE=DATE:20220724
DTSTAMP:20260421T004706
CREATED:20220711T070913Z
LAST-MODIFIED:20220711T070913Z
UID:10000318-1658534400-1658620799@southernimplants.com
SUMMARY:Implant Day: University of Pretoria
DESCRIPTION:Implant Day at Tukkies for final year students
URL:https://southernimplants.com/sims-event/implant-day-university-of-pretoria/
LOCATION:University of Pretoria (UP)\, Pretoria\, South Africa
CATEGORIES:SI HQ
END:VEVENT
BEGIN:VEVENT
DTSTART;TZID=Europe/Helsinki:20220726T190000
DTEND;TZID=Europe/Helsinki:20220726T200000
DTSTAMP:20260421T004706
CREATED:20220525T115718Z
LAST-MODIFIED:20220525T115718Z
UID:10000604-1658862000-1658865600@southernimplants.com
SUMMARY:SAAO Webinar
DESCRIPTION:Lecture presented by Dr Michael Michael
URL:https://southernimplants.com/sims-event/saao-webinar-2/
LOCATION:Online\, South Africa
CATEGORIES:SI HQ
END:VEVENT
BEGIN:VEVENT
DTSTART;TZID=Europe/Helsinki:20220728T080000
DTEND;TZID=Europe/Helsinki:20220728T170000
DTSTAMP:20260421T004706
CREATED:20220624T123644Z
LAST-MODIFIED:20220624T123644Z
UID:10000614-1658995200-1659027600@southernimplants.com
SUMMARY:UWC Registrar Course: Co-Axis
DESCRIPTION:
URL:https://southernimplants.com/sims-event/uwc-registrar-course-co-axis-2/
LOCATION:University of the Western Cape (UWC)\, Cape Town\, South Africa
CATEGORIES:SI HQ
END:VEVENT
BEGIN:VEVENT
DTSTART;TZID=Europe/Helsinki:20220729T080000
DTEND;TZID=Europe/Helsinki:20220730T170000
DTSTAMP:20260421T004706
CREATED:20220428T120751Z
LAST-MODIFIED:20220428T120751Z
UID:10000489-1659081600-1659200400@southernimplants.com
SUMMARY:DENTASA 2022
DESCRIPTION:Dental Technology Association of South Africa
URL:https://southernimplants.com/sims-event/dentasa-2022-2/
LOCATION:Birchwood Hotel & Conference Centre\, Johannesburg\, South Africa
CATEGORIES:SI HQ
END:VEVENT
BEGIN:VEVENT
DTSTART;TZID=Europe/Helsinki:20220729T080000
DTEND;TZID=Europe/Helsinki:20220730T170000
DTSTAMP:20260421T004706
CREATED:20220428T131409Z
LAST-MODIFIED:20220428T131409Z
UID:10000498-1659081600-1659200400@southernimplants.com
SUMMARY:Guided Bone Regeneration
DESCRIPTION:Presented by Dr Howard Gluckmann
URL:https://southernimplants.com/sims-event/guided-bone-regeneration-2/
LOCATION:Implant and Aesthetic Academy (IAA)\, Cape Town\, South Africa
CATEGORIES:SI HQ
END:VEVENT
BEGIN:VEVENT
DTSTART;VALUE=DATE:20220801
DTEND;VALUE=DATE:20220802
DTSTAMP:20260421T004706
CREATED:20220428T134233Z
LAST-MODIFIED:20220428T134233Z
UID:10000512-1659312000-1659398399@southernimplants.com
SUMMARY:Public Holiday: August Bank Holiday
DESCRIPTION:
URL:https://southernimplants.com/sims-event/public-holiday-august-bank-holiday-3/
CATEGORIES:UK & Ireland
END:VEVENT
BEGIN:VEVENT
DTSTART;VALUE=DATE:20220801
DTEND;VALUE=DATE:20220802
DTSTAMP:20260421T004706
CREATED:20220428T143727Z
LAST-MODIFIED:20220428T143727Z
UID:10000552-1659312000-1659398399@southernimplants.com
SUMMARY:Public Holiday: National Day
DESCRIPTION:
URL:https://southernimplants.com/sims-event/public-holiday-national-day-2-2/
END:VEVENT
BEGIN:VEVENT
DTSTART;VALUE=DATE:20220809
DTEND;VALUE=DATE:20220810
DTSTAMP:20260421T004706
CREATED:20220428T133448Z
LAST-MODIFIED:20220428T133448Z
UID:10000507-1660003200-1660089599@southernimplants.com
SUMMARY:Public Holiday: National Women's Day
DESCRIPTION:
URL:https://southernimplants.com/sims-event/public-holiday-national-womens-day-3/
CATEGORIES:SI HQ
END:VEVENT
BEGIN:VEVENT
DTSTART;TZID=Europe/Helsinki:20220812T080000
DTEND;TZID=Europe/Helsinki:20220813T170000
DTSTAMP:20260421T004706
CREATED:20220428T131520Z
LAST-MODIFIED:20220428T131520Z
UID:10000499-1660291200-1660410000@southernimplants.com
SUMMARY:StyleItaliano - Module 5
DESCRIPTION:Presented by Dr Howard Gluckmann
URL:https://southernimplants.com/sims-event/styleitaliano-module-5-2/
LOCATION:Implant and Aesthetic Academy (IAA)\, Cape Town\, South Africa
CATEGORIES:SI HQ
END:VEVENT
BEGIN:VEVENT
DTSTART;VALUE=DATE:20220815
DTEND;VALUE=DATE:20220816
DTSTAMP:20260421T004706
CREATED:20220428T141039Z
LAST-MODIFIED:20220428T141039Z
UID:10000531-1660521600-1660607999@southernimplants.com
SUMMARY:Public Holiday: Assumption Day
DESCRIPTION:
URL:https://southernimplants.com/sims-event/public-holiday-assumption-day-5/
CATEGORIES:Portugal
END:VEVENT
BEGIN:VEVENT
DTSTART;VALUE=DATE:20220815
DTEND;VALUE=DATE:20220816
DTSTAMP:20260421T004706
CREATED:20220428T142822Z
LAST-MODIFIED:20220429T063251Z
UID:10000243-1660521600-1660607999@southernimplants.com
SUMMARY:Public Holiday: Ferragosto
DESCRIPTION:
URL:https://southernimplants.com/sims-event/public-holiday-ferragosto/
CATEGORIES:Italy
END:VEVENT
BEGIN:VEVENT
DTSTART;VALUE=DATE:20220815
DTEND;VALUE=DATE:20220816
DTSTAMP:20260421T004706
CREATED:20220428T143323Z
LAST-MODIFIED:20220428T143323Z
UID:10000244-1660521600-1660607999@southernimplants.com
SUMMARY:Public Holiday: Assumption of the Virgin
DESCRIPTION:
URL:https://southernimplants.com/sims-event/public-holiday-assumption-of-the-virgin/
CATEGORIES:Spain
END:VEVENT
BEGIN:VEVENT
DTSTART;VALUE=DATE:20220815
DTEND;VALUE=DATE:20220816
DTSTAMP:20260421T004706
CREATED:20220429T063156Z
LAST-MODIFIED:20220429T063156Z
UID:10000249-1660521600-1660607999@southernimplants.com
SUMMARY:Public Holiday: Assumption Day
DESCRIPTION:
URL:https://southernimplants.com/sims-event/public-holiday-assumption-day-2/
CATEGORIES:Greece
END:VEVENT
BEGIN:VEVENT
DTSTART;VALUE=DATE:20220815
DTEND;VALUE=DATE:20220816
DTSTAMP:20260421T004706
CREATED:20220429T065406Z
LAST-MODIFIED:20220429T065406Z
UID:10000265-1660521600-1660607999@southernimplants.com
SUMMARY:Public Holiday: Assumption Day
DESCRIPTION:
URL:https://southernimplants.com/sims-event/public-holiday-assumption-day-3/
CATEGORIES:France
END:VEVENT
END:VCALENDAR