BEGIN:VCALENDAR
VERSION:2.0
PRODID:-//Southern Implants - ECPv6.15.20//NONSGML v1.0//EN
CALSCALE:GREGORIAN
METHOD:PUBLISH
X-WR-CALNAME:Southern Implants
X-ORIGINAL-URL:https://southernimplants.com
X-WR-CALDESC:Events for Southern Implants
REFRESH-INTERVAL;VALUE=DURATION:PT1H
X-Robots-Tag:noindex
X-PUBLISHED-TTL:PT1H
BEGIN:VTIMEZONE
TZID:Africa/Harare
BEGIN:STANDARD
TZOFFSETFROM:+0200
TZOFFSETTO:+0200
TZNAME:CAT
DTSTART:20250101T000000
END:STANDARD
END:VTIMEZONE
BEGIN:VEVENT
DTSTART;VALUE=DATE:20260821
DTEND;VALUE=DATE:20260824
DTSTAMP:20260421T035250
CREATED:20251001T165358Z
LAST-MODIFIED:20251001T165358Z
UID:10001061-1787270400-1787529599@southernimplants.com
SUMMARY:*2026 SADA Annual Conference
DESCRIPTION:
URL:https://southernimplants.com/sims-event/2026-sada-annual-conference/
LOCATION:Cape Town International Conference Centre (CTICC)\, Cape Town\, South Africa
CATEGORIES:South Africa
END:VEVENT
BEGIN:VEVENT
DTSTART;VALUE=DATE:20260826
DTEND;VALUE=DATE:20260830
DTSTAMP:20260421T035250
CREATED:20260218T123859Z
LAST-MODIFIED:20260218T123859Z
UID:10001141-1787702400-1788047999@southernimplants.com
SUMMARY:IFHNOS
DESCRIPTION:https://anzhncs.org/other-meetings/ifhnos-2026/  \nIFHNOS 8th World Congress 2026 \nWed 26 – Sat 29 August 2026 \nBrisbane Convention and Exhibition Centre\nWe are very excited to invite you to the 8th IFHNOS World Congress to be held in Brisbane\, Australia\, in August 2026\, in collaboration with the Australian and New Zealand Head and Neck Cancer Society. \nThe theme of the congress is “Global Harmonisation of Head and Neck Cancer Care”. \nIFHNOS is made up of over 70 member societies across 58 countries\, and so this will truly be an engaging international head and neck cancer conference for the ages. Along with the organising team\, we plan to deliver an exciting 4 days of a high quality scientific and social program. \nWe hope to welcome you to Brisbane in August 2026! \nTo find out more about the IFHNOS 8th World Congress 2026 and stay up to date with the latest information\, please visit the congress website. \n 
URL:https://southernimplants.com/sims-event/ifhnos/
CATEGORIES:Australia
END:VEVENT
BEGIN:VEVENT
DTSTART;VALUE=DATE:20260828
DTEND;VALUE=DATE:20260830
DTSTAMP:20260421T035250
CREATED:20251215T064855Z
LAST-MODIFIED:20251215T064855Z
UID:10001115-1787875200-1788047999@southernimplants.com
SUMMARY:IAA Guided Bone Regeneration
DESCRIPTION:
URL:https://southernimplants.com/sims-event/iaa-guided-bone-regeneration-2/
CATEGORIES:South Africa
END:VEVENT
BEGIN:VEVENT
DTSTART;VALUE=DATE:20260829
DTEND;VALUE=DATE:20260831
DTSTAMP:20260421T035250
CREATED:20260302T092326Z
LAST-MODIFIED:20260302T092326Z
UID:10001148-1787961600-1788134399@southernimplants.com
SUMMARY:Implant Maintenance
DESCRIPTION:Two-day fundamentals of Implantology course with a hands-on component.
URL:https://southernimplants.com/sims-event/implant-maintenance-5/
CATEGORIES:South Africa
END:VEVENT
BEGIN:VEVENT
DTSTART;VALUE=DATE:20260901
DTEND;VALUE=DATE:20260905
DTSTAMP:20260421T035250
CREATED:20251204T133328Z
LAST-MODIFIED:20251204T133328Z
UID:10001095-1788220800-1788566399@southernimplants.com
SUMMARY:ZAGA Cadaver Course | Barcelona
DESCRIPTION:
URL:https://southernimplants.com/sims-event/zaga-cadaver-course-barcelona/
CATEGORIES:Spain
END:VEVENT
BEGIN:VEVENT
DTSTART;VALUE=DATE:20260904
DTEND;VALUE=DATE:20260906
DTSTAMP:20260421T035250
CREATED:20251126T070707Z
LAST-MODIFIED:20251126T070707Z
UID:10001093-1788480000-1788652799@southernimplants.com
SUMMARY:SIAD Basic
DESCRIPTION:
URL:https://southernimplants.com/sims-event/siad-basic-2/
CATEGORIES:SI HQ
END:VEVENT
BEGIN:VEVENT
DTSTART;VALUE=DATE:20260904
DTEND;VALUE=DATE:20260906
DTSTAMP:20260421T035251
CREATED:20260417T104122Z
LAST-MODIFIED:20260417T104122Z
UID:10001169-1788480000-1788652799@southernimplants.com
SUMMARY:Cadaver Course – Dr Costa Nicolopoulos
DESCRIPTION:ICLO Teaching and Research Center\, Italy \nIn Italy\, done by 32Academy
URL:https://southernimplants.com/sims-event/cadaver-course-dr-costa-nicolopoulos/
CATEGORIES:Italy
END:VEVENT
BEGIN:VEVENT
DTSTART;VALUE=DATE:20260904
DTEND;VALUE=DATE:20260908
DTSTAMP:20260421T035251
CREATED:20260407T053522Z
LAST-MODIFIED:20260407T053547Z
UID:10001162-1788480000-1788825599@southernimplants.com
SUMMARY:FDI World Dental Congress 2026
DESCRIPTION:The FDI World Dental Congress 2026 (WDC26) will take place in Prague\, Czech Republic\, from 4–7 September 2026. The event will gather dental professionals worldwide for a premier scientific program\, industry exhibition\, and networking\, featuring over 8\,000 participants.
URL:https://southernimplants.com/sims-event/fdi-world-dental-congress-2026/
CATEGORIES:Austria
END:VEVENT
BEGIN:VEVENT
DTSTART;VALUE=DATE:20260912
DTEND;VALUE=DATE:20260913
DTSTAMP:20260421T035251
CREATED:20260302T092404Z
LAST-MODIFIED:20260302T092404Z
UID:10001149-1789171200-1789257599@southernimplants.com
SUMMARY:Live Surgery
DESCRIPTION:
URL:https://southernimplants.com/sims-event/live-surgery-2/
CATEGORIES:South Africa
END:VEVENT
BEGIN:VEVENT
DTSTART;VALUE=DATE:20260914
DTEND;VALUE=DATE:20260921
DTSTAMP:20260421T035251
CREATED:20251127T072214Z
LAST-MODIFIED:20251127T072214Z
UID:10001094-1789344000-1789948799@southernimplants.com
SUMMARY:Tarnow Chu Inst:Controversies and Innovations in Implant Esthetics
DESCRIPTION:New York
URL:https://southernimplants.com/sims-event/tarnow-chu-instcontroversies-and-innovations-in-implant-esthetics/
CATEGORIES:USA and Canada
END:VEVENT
BEGIN:VEVENT
DTSTART;VALUE=DATE:20260918
DTEND;VALUE=DATE:20260919
DTSTAMP:20260421T035251
CREATED:20260318T053253Z
LAST-MODIFIED:20260318T053509Z
UID:10001156-1789689600-1789775999@southernimplants.com
SUMMARY:Full Arch Meeting (France)
DESCRIPTION:https://www.billetweb.fr/full-arch-meeting
URL:https://southernimplants.com/sims-event/full-arch-meeting-france/
CATEGORIES:France
END:VEVENT
BEGIN:VEVENT
DTSTART;VALUE=DATE:20260924
DTEND;VALUE=DATE:20260925
DTSTAMP:20260421T035251
CREATED:20251120T125031Z
LAST-MODIFIED:20251120T125031Z
UID:10001086-1790208000-1790294399@southernimplants.com
SUMMARY:SA Public Holiday: Heritage Day
DESCRIPTION:
URL:https://southernimplants.com/sims-event/sa-public-holiday-heritage-day/
CATEGORIES:South Africa
END:VEVENT
BEGIN:VEVENT
DTSTART;VALUE=DATE:20260924
DTEND;VALUE=DATE:20260925
DTSTAMP:20260421T035251
CREATED:20260121T122712Z
LAST-MODIFIED:20260121T122712Z
UID:10001127-1790208000-1790294399@southernimplants.com
SUMMARY:EAO
DESCRIPTION:
URL:https://southernimplants.com/sims-event/eao-2/
CATEGORIES:Portugal
END:VEVENT
BEGIN:VEVENT
DTSTART;VALUE=DATE:20260929
DTEND;VALUE=DATE:20261003
DTSTAMP:20260421T035251
CREATED:20251204T133438Z
LAST-MODIFIED:20251204T133438Z
UID:10001096-1790640000-1790985599@southernimplants.com
SUMMARY:ZAGA Cadaver Course | New York City
DESCRIPTION:
URL:https://southernimplants.com/sims-event/zaga-cadaver-course-new-york-city/
CATEGORIES:USA and Canada
END:VEVENT
BEGIN:VEVENT
DTSTART;VALUE=DATE:20261010
DTEND;VALUE=DATE:20261011
DTSTAMP:20260421T035251
CREATED:20251209T092952Z
LAST-MODIFIED:20251209T092952Z
UID:10001102-1791590400-1791676799@southernimplants.com
SUMMARY:SADA Free State
DESCRIPTION:Half Day
URL:https://southernimplants.com/sims-event/sada-free-state-2/
CATEGORIES:South Africa
END:VEVENT
BEGIN:VEVENT
DTSTART;VALUE=DATE:20261014
DTEND;VALUE=DATE:20261015
DTSTAMP:20260421T035251
CREATED:20260216T091837Z
LAST-MODIFIED:20260216T091837Z
UID:10001139-1791936000-1792022399@southernimplants.com
SUMMARY:PPD Implantology Course
DESCRIPTION:Zelda | Cape Town
URL:https://southernimplants.com/sims-event/ppd-implantology-course/
CATEGORIES:South Africa
END:VEVENT
BEGIN:VEVENT
DTSTART;VALUE=DATE:20261019
DTEND;VALUE=DATE:20261020
DTSTAMP:20260421T035251
CREATED:20251209T094325Z
LAST-MODIFIED:20251209T094325Z
UID:10001104-1792368000-1792454399@southernimplants.com
SUMMARY:SADA Gauteng South
DESCRIPTION:Evening
URL:https://southernimplants.com/sims-event/sada-gauteng-south-2/
LOCATION:West Rand
CATEGORIES:South Africa
END:VEVENT
BEGIN:VEVENT
DTSTART;VALUE=DATE:20261024
DTEND;VALUE=DATE:20261025
DTSTAMP:20260421T035251
CREATED:20251209T094443Z
LAST-MODIFIED:20251209T094507Z
UID:10001105-1792800000-1792886399@southernimplants.com
SUMMARY:SADA Western Cape
DESCRIPTION:Full Day
URL:https://southernimplants.com/sims-event/sada-western-cape-4/
LOCATION:Fancourt\, Montagu Street\, Blanco\, George\, Montagu Street\, Blanco\, George\, South Africa
CATEGORIES:South Africa
END:VEVENT
BEGIN:VEVENT
DTSTART;VALUE=DATE:20261031
DTEND;VALUE=DATE:20261102
DTSTAMP:20260421T035251
CREATED:20251215T065034Z
LAST-MODIFIED:20251215T065034Z
UID:10001116-1793404800-1793577599@southernimplants.com
SUMMARY:IAA Full Arch Rehabilitation
DESCRIPTION:
URL:https://southernimplants.com/sims-event/iaa-full-arch-rehabilitation/
CATEGORIES:South Africa
END:VEVENT
BEGIN:VEVENT
DTSTART;VALUE=DATE:20261102
DTEND;VALUE=DATE:20261107
DTSTAMP:20260421T035251
CREATED:20260121T104851Z
LAST-MODIFIED:20260121T105047Z
UID:10001124-1793577600-1794009599@southernimplants.com
SUMMARY:Southern Edge
DESCRIPTION:
URL:https://southernimplants.com/sims-event/southern-edge/
CATEGORIES:SI HQ,South Africa
END:VEVENT
BEGIN:VEVENT
DTSTART;VALUE=DATE:20261113
DTEND;VALUE=DATE:20261115
DTSTAMP:20260421T035251
CREATED:20260319T053734Z
LAST-MODIFIED:20260319T053734Z
UID:10001159-1794528000-1794700799@southernimplants.com
SUMMARY:Cadaver Course (Italy)
DESCRIPTION:ICLO Teaching and Research Centre
URL:https://southernimplants.com/sims-event/cadaver-course-italy/
CATEGORIES:Italy
END:VEVENT
BEGIN:VEVENT
DTSTART;VALUE=DATE:20261204
DTEND;VALUE=DATE:20261207
DTSTAMP:20260421T035251
CREATED:20251215T065317Z
LAST-MODIFIED:20251215T065317Z
UID:10001117-1796342400-1796601599@southernimplants.com
SUMMARY:IAA Advanced Implantology
DESCRIPTION:
URL:https://southernimplants.com/sims-event/iaa-advanced-implantology-2/
CATEGORIES:South Africa
END:VEVENT
BEGIN:VEVENT
DTSTART;VALUE=DATE:20261208
DTEND;VALUE=DATE:20261210
DTSTAMP:20260421T035251
CREATED:20260409T075508Z
LAST-MODIFIED:20260409T075508Z
UID:10001166-1796688000-1796860799@southernimplants.com
SUMMARY:Cadaver Course: Zygomatic\, Pterygoid\, Nazalus
DESCRIPTION:Netherlands \nDr Pietro Ferraris & Dr Giovanni Nicoli
URL:https://southernimplants.com/sims-event/cadaver-course-zygomatic-pterygoid-nazalus/
CATEGORIES:Belgium
END:VEVENT
BEGIN:VEVENT
DTSTART;VALUE=DATE:20261210
DTEND;VALUE=DATE:20261212
DTSTAMP:20260421T035251
CREATED:20260417T104218Z
LAST-MODIFIED:20260417T104338Z
UID:10001170-1796860800-1797033599@southernimplants.com
SUMMARY:Cadaver Course: Dr Riz Syed
DESCRIPTION:ICLO Teaching and Research Center\, Italy \nIn Italy\, done by 32Academy
URL:https://southernimplants.com/sims-event/cadaver-course-dr-riz-syed/
CATEGORIES:Italy
END:VEVENT
BEGIN:VEVENT
DTSTART;VALUE=DATE:20261216
DTEND;VALUE=DATE:20261217
DTSTAMP:20260421T035251
CREATED:20251120T125118Z
LAST-MODIFIED:20251120T125118Z
UID:10001087-1797379200-1797465599@southernimplants.com
SUMMARY:SA Public Holiday: Day of Reconciliation
DESCRIPTION:
URL:https://southernimplants.com/sims-event/sa-public-holiday-day-of-reconciliation/
CATEGORIES:South Africa
END:VEVENT
BEGIN:VEVENT
DTSTART;VALUE=DATE:20261225
DTEND;VALUE=DATE:20261226
DTSTAMP:20260421T035251
CREATED:20251120T125201Z
LAST-MODIFIED:20251120T125201Z
UID:10001088-1798156800-1798243199@southernimplants.com
SUMMARY:SA Public Holiday: Christmas Day
DESCRIPTION:
URL:https://southernimplants.com/sims-event/sa-public-holiday-christmas-day/
CATEGORIES:South Africa
END:VEVENT
BEGIN:VEVENT
DTSTART;VALUE=DATE:20261226
DTEND;VALUE=DATE:20261227
DTSTAMP:20260421T035251
CREATED:20251120T125430Z
LAST-MODIFIED:20251120T130503Z
UID:10001089-1798243200-1798329599@southernimplants.com
SUMMARY:SA Public Holiday: Day of Goodwill
DESCRIPTION:
URL:https://southernimplants.com/sims-event/sa-public-holiday-day-of-goodwill/
CATEGORIES:South Africa
END:VEVENT
BEGIN:VEVENT
DTSTART;VALUE=DATE:20270219
DTEND;VALUE=DATE:20270221
DTSTAMP:20260421T035251
CREATED:20260121T103815Z
LAST-MODIFIED:20260121T103815Z
UID:10001123-1802995200-1803167999@southernimplants.com
SUMMARY:Southern Implants Italy Conference
DESCRIPTION:
URL:https://southernimplants.com/sims-event/southern-implants-italy-conference/
CATEGORIES:Italy
END:VEVENT
BEGIN:VEVENT
DTSTART;VALUE=DATE:20270228
DTEND;VALUE=DATE:20270306
DTSTAMP:20260421T035251
CREATED:20260413T052908Z
LAST-MODIFIED:20260413T052908Z
UID:10001167-1803772800-1804291199@southernimplants.com
SUMMARY:Tentative: Vietnamese EDGE Course
DESCRIPTION:Dr Riz Syed
URL:https://southernimplants.com/sims-event/tentative-vietnamese-edge-course/
CATEGORIES:SI HQ
END:VEVENT
BEGIN:VEVENT
DTSTART;VALUE=DATE:20270316
DTEND;VALUE=DATE:20270321
DTSTAMP:20260421T035251
CREATED:20250714T111546Z
LAST-MODIFIED:20250714T111546Z
UID:10001014-1805155200-1805587199@southernimplants.com
SUMMARY:IDS 2027
DESCRIPTION:
URL:https://southernimplants.com/sims-event/ids-2027/
END:VEVENT
END:VCALENDAR