BEGIN:VCALENDAR
VERSION:2.0
PRODID:-//Southern Implants - ECPv6.15.20//NONSGML v1.0//EN
CALSCALE:GREGORIAN
METHOD:PUBLISH
X-WR-CALNAME:Southern Implants
X-ORIGINAL-URL:https://southernimplants.com
X-WR-CALDESC:Events for Southern Implants
REFRESH-INTERVAL;VALUE=DURATION:PT1H
X-Robots-Tag:noindex
X-PUBLISHED-TTL:PT1H
BEGIN:VTIMEZONE
TZID:Africa/Harare
BEGIN:STANDARD
TZOFFSETFROM:+0200
TZOFFSETTO:+0200
TZNAME:CAT
DTSTART:20240101T000000
END:STANDARD
END:VTIMEZONE
BEGIN:VEVENT
DTSTART;VALUE=DATE:20250909
DTEND;VALUE=DATE:20250910
DTSTAMP:20260421T051612
CREATED:20250731T103914Z
LAST-MODIFIED:20250731T103914Z
UID:10001028-1757376000-1757462399@southernimplants.com
SUMMARY:Dr Costa Nicolopoulos Webinar: BiteForce and Implant Planning
DESCRIPTION:08:00 pm Central European Time \nRegistration Link:\nhttps://us02web.zoom.us/webinar/register/3917538873081/WN_pZgHd8saTbSBOg3m7H8KkA
URL:https://southernimplants.com/sims-event/dr-costa-nicolopoulos-webinar-biteforce-and-implant-planning/
END:VEVENT
BEGIN:VEVENT
DTSTART;VALUE=DATE:20250909
DTEND;VALUE=DATE:20250910
DTSTAMP:20260421T051612
CREATED:20250825T061938Z
LAST-MODIFIED:20250825T061938Z
UID:10001035-1757376000-1757462399@southernimplants.com
SUMMARY:Think Clinic Factory Tour
DESCRIPTION:
URL:https://southernimplants.com/sims-event/think-clinic-factory-tour/
CATEGORIES:SI HQ
END:VEVENT
BEGIN:VEVENT
DTSTART;VALUE=DATE:20250913
DTEND;VALUE=DATE:20250914
DTSTAMP:20260421T051612
CREATED:20250314T074428Z
LAST-MODIFIED:20250314T074428Z
UID:10000968-1757721600-1757807999@southernimplants.com
SUMMARY:SADA Freestate
DESCRIPTION:
URL:https://southernimplants.com/sims-event/sada-freestate-2/
CATEGORIES:South Africa
END:VEVENT
BEGIN:VEVENT
DTSTART;VALUE=DATE:20250915
DTEND;VALUE=DATE:20250917
DTSTAMP:20260421T051612
CREATED:20250723T094314Z
LAST-MODIFIED:20250723T095304Z
UID:10001018-1757894400-1758067199@southernimplants.com
SUMMARY:Hands-on with Prof Hugo de Bruyn (Ghent University)
DESCRIPTION:
URL:https://southernimplants.com/sims-event/hands-on-with-prof-hugo-de-bruyn-ghent-university/
CATEGORIES:Belgium
END:VEVENT
BEGIN:VEVENT
DTSTART;VALUE=DATE:20250917
DTEND;VALUE=DATE:20250918
DTSTAMP:20260421T051612
CREATED:20250904T163850Z
LAST-MODIFIED:20250904T163850Z
UID:10001047-1758067200-1758153599@southernimplants.com
SUMMARY:SP1 Practice at Dr C Minnaar
DESCRIPTION:
URL:https://southernimplants.com/sims-event/sp1-practice-at-dr-c-minnaar/
CATEGORIES:South Africa
END:VEVENT
BEGIN:VEVENT
DTSTART;VALUE=DATE:20250918
DTEND;VALUE=DATE:20250920
DTSTAMP:20260421T051612
CREATED:20250909T100058Z
LAST-MODIFIED:20250909T100058Z
UID:10001050-1758153600-1758326399@southernimplants.com
SUMMARY:Zygomatic Master in University o Pisa (Italy)
DESCRIPTION:
URL:https://southernimplants.com/sims-event/zygomatic-master-in-university-o-pisa-italy/
CATEGORIES:Italy
END:VEVENT
BEGIN:VEVENT
DTSTART;VALUE=DATE:20250918
DTEND;VALUE=DATE:20250921
DTSTAMP:20260421T051612
CREATED:20250702T090106Z
LAST-MODIFIED:20250702T090106Z
UID:10001006-1758153600-1758412799@southernimplants.com
SUMMARY:EAO Monaco
DESCRIPTION:
URL:https://southernimplants.com/sims-event/eao-monaco/
CATEGORIES:France
END:VEVENT
BEGIN:VEVENT
DTSTART;VALUE=DATE:20250924
DTEND;VALUE=DATE:20250927
DTSTAMP:20260421T051612
CREATED:20250121T115017Z
LAST-MODIFIED:20250121T115017Z
UID:10000958-1758672000-1758931199@southernimplants.com
SUMMARY:SASMFOS 2025
DESCRIPTION:
URL:https://southernimplants.com/sims-event/sasmfos-2025/
CATEGORIES:South Africa
END:VEVENT
BEGIN:VEVENT
DTSTART;VALUE=DATE:20250925
DTEND;VALUE=DATE:20250929
DTSTAMP:20260421T051612
CREATED:20250818T065244Z
LAST-MODIFIED:20250818T065244Z
UID:10001030-1758758400-1759103999@southernimplants.com
SUMMARY:Global Implant Institute: Zygoma Live Surgery
DESCRIPTION:Dr Rudi Mukherjee & Dr Riz Syed
URL:https://southernimplants.com/sims-event/global-implant-institute-zygoma-live-surgery/
CATEGORIES:Greece
END:VEVENT
BEGIN:VEVENT
DTSTART;VALUE=DATE:20250925
DTEND;VALUE=DATE:20250929
DTSTAMP:20260421T051612
CREATED:20250825T075928Z
LAST-MODIFIED:20250825T075928Z
UID:10001036-1758758400-1759103999@southernimplants.com
SUMMARY:NDA
DESCRIPTION:
URL:https://southernimplants.com/sims-event/nda/
CATEGORIES:Namibia
END:VEVENT
BEGIN:VEVENT
DTSTART;VALUE=DATE:20251001
DTEND;VALUE=DATE:20251002
DTSTAMP:20260421T051612
CREATED:20250821T105941Z
LAST-MODIFIED:20250821T105941Z
UID:10001034-1759276800-1759363199@southernimplants.com
SUMMARY:PIKOS Symposium Pre-Conference Workshop
DESCRIPTION:
URL:https://southernimplants.com/sims-event/pikos-symposium-pre-conference-workshop/
CATEGORIES:USA and Canada
END:VEVENT
BEGIN:VEVENT
DTSTART;VALUE=DATE:20251002
DTEND;VALUE=DATE:20251003
DTSTAMP:20260421T051612
CREATED:20250904T151534Z
LAST-MODIFIED:20250904T151534Z
UID:10001046-1759363200-1759449599@southernimplants.com
SUMMARY:Boston University Versah Course
DESCRIPTION:
URL:https://southernimplants.com/sims-event/boston-university-versah-course/
CATEGORIES:USA and Canada
END:VEVENT
BEGIN:VEVENT
DTSTART;VALUE=DATE:20251003
DTEND;VALUE=DATE:20251005
DTSTAMP:20260421T051612
CREATED:20250902T074508Z
LAST-MODIFIED:20250902T074508Z
UID:10001039-1759449600-1759622399@southernimplants.com
SUMMARY:Nazalus and Pterygoid Course
DESCRIPTION:Dr Pietro Ferraris\nDr Giovanni Nicoli
URL:https://southernimplants.com/sims-event/nazalus-and-pterygoid-course/
CATEGORIES:Italy
END:VEVENT
BEGIN:VEVENT
DTSTART;VALUE=DATE:20251004
DTEND;VALUE=DATE:20251005
DTSTAMP:20260421T051612
CREATED:20250728T124235Z
LAST-MODIFIED:20250728T124235Z
UID:10001024-1759536000-1759622399@southernimplants.com
SUMMARY:Live Surgery with Dr Jadward & Dr Hoosen
DESCRIPTION:
URL:https://southernimplants.com/sims-event/live-surgery-with-dr-jadward-dr-hoosen/
CATEGORIES:South Africa
END:VEVENT
BEGIN:VEVENT
DTSTART;VALUE=DATE:20251004
DTEND;VALUE=DATE:20251005
DTSTAMP:20260421T051613
CREATED:20250902T150637Z
LAST-MODIFIED:20250902T150702Z
UID:10001042-1759536000-1759622399@southernimplants.com
SUMMARY:The Pterygoid Course with Dr Rudi Mukherjee
DESCRIPTION:
URL:https://southernimplants.com/sims-event/the-pterygoid-course-with-dr-rudi-mukherjee/
CATEGORIES:UK & Ireland
END:VEVENT
BEGIN:VEVENT
DTSTART;VALUE=DATE:20251007
DTEND;VALUE=DATE:20251012
DTSTAMP:20260421T051613
CREATED:20250709T073427Z
LAST-MODIFIED:20250709T073527Z
UID:10001011-1759795200-1760227199@southernimplants.com
SUMMARY:ZAGA Cadaver Course + Complexitiez Symposium
DESCRIPTION:Master Zygomatic & Remote Anchorage Solutions
URL:https://southernimplants.com/sims-event/zaga-cadaver-course-complexitiez-symposium/
CATEGORIES:USA and Canada
END:VEVENT
BEGIN:VEVENT
DTSTART;VALUE=DATE:20251008
DTEND;VALUE=DATE:20251009
DTSTAMP:20260421T051613
CREATED:20251001T163712Z
LAST-MODIFIED:20251001T163831Z
UID:10001054-1759881600-1759967999@southernimplants.com
SUMMARY:* SADA Angoa Midlands
DESCRIPTION:Warmer Golf Club \nExhibitor cost: R4750
URL:https://southernimplants.com/sims-event/sada-angoa-midlands/
LOCATION:Algoa Midlands\, South Africa
CATEGORIES:South Africa
END:VEVENT
BEGIN:VEVENT
DTSTART;VALUE=DATE:20251008
DTEND;VALUE=DATE:20251011
DTSTAMP:20260421T051613
CREATED:20250902T083518Z
LAST-MODIFIED:20250902T083847Z
UID:10001040-1759881600-1760140799@southernimplants.com
SUMMARY:Tarnow Chu Institute: Controversies & Innovations
DESCRIPTION:Tarnow Chu Institute: Controversies & Innovations in Implant Esthetics
URL:https://southernimplants.com/sims-event/tarnow-chu-institute-controversies-innovations/
CATEGORIES:USA and Canada
END:VEVENT
BEGIN:VEVENT
DTSTART;VALUE=DATE:20251010
DTEND;VALUE=DATE:20251011
DTSTAMP:20260421T051613
CREATED:20250728T122805Z
LAST-MODIFIED:20250728T122805Z
UID:10001020-1760054400-1760140799@southernimplants.com
SUMMARY:A new paradigm of implantation in the Aesthetic Zone
DESCRIPTION:Dr Riz Syed \nA new paradigm of implantation in the Aesthetic Zone using Southern Implants Co-Axis® System.\nWarsaw\, Poland
URL:https://southernimplants.com/sims-event/a-new-paradigm-of-implantation-in-the-aesthetic-zone/
CATEGORIES:Poland
END:VEVENT
BEGIN:VEVENT
DTSTART;VALUE=DATE:20251010
DTEND;VALUE=DATE:20251011
DTSTAMP:20260421T051613
CREATED:20251001T164103Z
LAST-MODIFIED:20251001T164103Z
UID:10001055-1760054400-1760140799@southernimplants.com
SUMMARY:* SADA Border Kei
DESCRIPTION:
URL:https://southernimplants.com/sims-event/sada-border-kei/
LOCATION:East London Golf Club\, South Africa
CATEGORIES:South Africa
END:VEVENT
BEGIN:VEVENT
DTSTART;VALUE=DATE:20251010
DTEND;VALUE=DATE:20251012
DTSTAMP:20260421T051613
CREATED:20250729T123231Z
LAST-MODIFIED:20250729T123231Z
UID:10001025-1760054400-1760227199@southernimplants.com
SUMMARY:SADTO
DESCRIPTION:
URL:https://southernimplants.com/sims-event/sadto/
CATEGORIES:South Africa
END:VEVENT
BEGIN:VEVENT
DTSTART;VALUE=DATE:20251010
DTEND;VALUE=DATE:20251012
DTSTAMP:20260421T051613
CREATED:20250904T165026Z
LAST-MODIFIED:20250904T165026Z
UID:10001048-1760054400-1760227199@southernimplants.com
SUMMARY:RAA Perio
DESCRIPTION:
URL:https://southernimplants.com/sims-event/raa-perio/
CATEGORIES:South Africa
END:VEVENT
BEGIN:VEVENT
DTSTART;VALUE=DATE:20251011
DTEND;VALUE=DATE:20251012
DTSTAMP:20260421T051613
CREATED:20250728T123446Z
LAST-MODIFIED:20250728T123446Z
UID:10001021-1760140800-1760227199@southernimplants.com
SUMMARY:Full-Arch reconstruction using SI
DESCRIPTION:Dr Riz Syed \nFull-arch reconstruction using Southern Implants Pterygoid & Zygomatic implants. \nWarsaw\, Poland
URL:https://southernimplants.com/sims-event/full-arch-reconstruction-using-si/
CATEGORIES:Poland
END:VEVENT
BEGIN:VEVENT
DTSTART;VALUE=DATE:20251011
DTEND;VALUE=DATE:20251012
DTSTAMP:20260421T051613
CREATED:20250902T083801Z
LAST-MODIFIED:20250902T083801Z
UID:10001041-1760140800-1760227199@southernimplants.com
SUMMARY:Global Zygomatic and Remove Anchorage Complications Symposium
DESCRIPTION:
URL:https://southernimplants.com/sims-event/global-zygomatic-and-remove-anchorage-complications-symposium/
CATEGORIES:USA and Canada
END:VEVENT
BEGIN:VEVENT
DTSTART;VALUE=DATE:20251011
DTEND;VALUE=DATE:20251012
DTSTAMP:20260421T051613
CREATED:20251001T164920Z
LAST-MODIFIED:20251001T164920Z
UID:10001058-1760140800-1760227199@southernimplants.com
SUMMARY:Final year graduand – UWC\, Ashanti\, PAARL
DESCRIPTION:
URL:https://southernimplants.com/sims-event/final-year-graduand-uwc-ashanti-paarl/
CATEGORIES:South Africa
END:VEVENT
BEGIN:VEVENT
DTSTART;VALUE=DATE:20251016
DTEND;VALUE=DATE:20251017
DTSTAMP:20260421T051613
CREATED:20250904T140103Z
LAST-MODIFIED:20250904T140103Z
UID:10001045-1760572800-1760659199@southernimplants.com
SUMMARY:Factory Tour
DESCRIPTION:Dr. Jack Lipkin \nB.Sc.\, D.M.D.\, Cert. Pros.\, F.I.C.D.\nCo-President Kennedy Professional Educational Seminars
URL:https://southernimplants.com/sims-event/factory-tour/
CATEGORIES:SI HQ
END:VEVENT
BEGIN:VEVENT
DTSTART;VALUE=DATE:20251018
DTEND;VALUE=DATE:20251019
DTSTAMP:20260421T051613
CREATED:20250408T093720Z
LAST-MODIFIED:20250408T094034Z
UID:10000982-1760745600-1760831999@southernimplants.com
SUMMARY:Versah – Osseodensification One-Day Course (OD1)\, Brisbane
DESCRIPTION:
URL:https://southernimplants.com/sims-event/versah-osseodensification-one-day-course-od1-brisbane/
CATEGORIES:Australia
END:VEVENT
BEGIN:VEVENT
DTSTART;VALUE=DATE:20251018
DTEND;VALUE=DATE:20251019
DTSTAMP:20260421T051613
CREATED:20250821T063459Z
LAST-MODIFIED:20250821T063459Z
UID:10001033-1760745600-1760831999@southernimplants.com
SUMMARY:The Starting Implantologist (Netherlands)
DESCRIPTION:Kasteel de Vanenburg\, Vanenburgerallee 13\, Putten\, Overijssel\, Netherlands \nDe Startende Implantoloog
URL:https://southernimplants.com/sims-event/the-starting-implantologist-netherlands/
CATEGORIES:Belgium
END:VEVENT
BEGIN:VEVENT
DTSTART;VALUE=DATE:20251020
DTEND;VALUE=DATE:20251021
DTSTAMP:20260421T051613
CREATED:20250731T093739Z
LAST-MODIFIED:20250731T093739Z
UID:10001027-1760918400-1761004799@southernimplants.com
SUMMARY:Factory Tour: Dr Chris Anagnostopoulos & Dr Cules van den Heever
DESCRIPTION:
URL:https://southernimplants.com/sims-event/factory-tour-dr-chris-anagnostopoulos-dr-cules-van-den-heever/
CATEGORIES:SI HQ
END:VEVENT
BEGIN:VEVENT
DTSTART;VALUE=DATE:20251022
DTEND;VALUE=DATE:20251023
DTSTAMP:20260421T051613
CREATED:20251013T084922Z
LAST-MODIFIED:20251013T084922Z
UID:10001068-1761091200-1761177599@southernimplants.com
SUMMARY:PDD Diploma Course UWC
DESCRIPTION:
URL:https://southernimplants.com/sims-event/pdd-diploma-course-uwc/
CATEGORIES:South Africa
END:VEVENT
END:VCALENDAR