BEGIN:VCALENDAR
VERSION:2.0
PRODID:-//Southern Implants - ECPv6.15.20//NONSGML v1.0//EN
CALSCALE:GREGORIAN
METHOD:PUBLISH
X-WR-CALNAME:Southern Implants
X-ORIGINAL-URL:https://southernimplants.com
X-WR-CALDESC:Events for Southern Implants
REFRESH-INTERVAL;VALUE=DURATION:PT1H
X-Robots-Tag:noindex
X-PUBLISHED-TTL:PT1H
BEGIN:VTIMEZONE
TZID:Europe/Helsinki
BEGIN:DAYLIGHT
TZOFFSETFROM:+0200
TZOFFSETTO:+0300
TZNAME:EEST
DTSTART:20210328T010000
END:DAYLIGHT
BEGIN:STANDARD
TZOFFSETFROM:+0300
TZOFFSETTO:+0200
TZNAME:EET
DTSTART:20211031T010000
END:STANDARD
BEGIN:DAYLIGHT
TZOFFSETFROM:+0200
TZOFFSETTO:+0300
TZNAME:EEST
DTSTART:20220327T010000
END:DAYLIGHT
BEGIN:STANDARD
TZOFFSETFROM:+0300
TZOFFSETTO:+0200
TZNAME:EET
DTSTART:20221030T010000
END:STANDARD
BEGIN:DAYLIGHT
TZOFFSETFROM:+0200
TZOFFSETTO:+0300
TZNAME:EEST
DTSTART:20230326T010000
END:DAYLIGHT
BEGIN:STANDARD
TZOFFSETFROM:+0300
TZOFFSETTO:+0200
TZNAME:EET
DTSTART:20231029T010000
END:STANDARD
END:VTIMEZONE
BEGIN:VEVENT
DTSTART;VALUE=DATE:20220501
DTEND;VALUE=DATE:20220504
DTSTAMP:20260420T231110
CREATED:20220428T140449Z
LAST-MODIFIED:20220428T140449Z
UID:10000220-1651363200-1651622399@southernimplants.com
SUMMARY:Public Holiday: Day of Spring and Labor
DESCRIPTION:
URL:https://southernimplants.com/sims-event/public-holiday-day-of-spring-and-labor/
CATEGORIES:Russia
END:VEVENT
BEGIN:VEVENT
DTSTART;VALUE=DATE:20220502
DTEND;VALUE=DATE:20220503
DTSTAMP:20260420T231110
CREATED:20220428T133319Z
LAST-MODIFIED:20220428T133319Z
UID:10000505-1651449600-1651535999@southernimplants.com
SUMMARY:Public Holiday: Workers Day (in lieu)
DESCRIPTION:
URL:https://southernimplants.com/sims-event/public-holiday-workers-day-in-lieu-3/
CATEGORIES:SI HQ
END:VEVENT
BEGIN:VEVENT
DTSTART;VALUE=DATE:20220502
DTEND;VALUE=DATE:20220503
DTSTAMP:20260420T231110
CREATED:20220428T134104Z
LAST-MODIFIED:20220428T134104Z
UID:10000510-1651449600-1651535999@southernimplants.com
SUMMARY:Public Holiday: May Bank Holiday
DESCRIPTION:
URL:https://southernimplants.com/sims-event/public-holiday-may-bank-holiday-2/
CATEGORIES:UK & Ireland
END:VEVENT
BEGIN:VEVENT
DTSTART;VALUE=DATE:20220502
DTEND;VALUE=DATE:20220503
DTSTAMP:20260420T231110
CREATED:20220429T065450Z
LAST-MODIFIED:20220429T065450Z
UID:10000571-1651449600-1651535999@southernimplants.com
SUMMARY:Public Holiday: Workers Day (in lieu)
DESCRIPTION:
URL:https://southernimplants.com/sims-event/public-holiday-workers-day-in-lieu-2-2/
CATEGORIES:Namibia
END:VEVENT
BEGIN:VEVENT
DTSTART;VALUE=DATE:20220502
DTEND;VALUE=DATE:20220503
DTSTAMP:20260420T231110
CREATED:20220429T065848Z
LAST-MODIFIED:20220429T065848Z
UID:10000575-1651449600-1651535999@southernimplants.com
SUMMARY:Public Holiday: May Day
DESCRIPTION:
URL:https://southernimplants.com/sims-event/public-holiday-may-day-2/
CATEGORIES:UK & Ireland
END:VEVENT
BEGIN:VEVENT
DTSTART;VALUE=DATE:20220502
DTEND;VALUE=DATE:20220505
DTSTAMP:20260420T231110
CREATED:20220428T134522Z
LAST-MODIFIED:20220428T134522Z
UID:10000515-1651449600-1651708799@southernimplants.com
SUMMARY:Public Holiday: Eid Al Fitr
DESCRIPTION:
URL:https://southernimplants.com/sims-event/public-holiday-eid-al-fitr-2/
CATEGORIES:UAE
END:VEVENT
BEGIN:VEVENT
DTSTART;VALUE=DATE:20220502
DTEND;VALUE=DATE:20220505
DTSTAMP:20260420T231110
CREATED:20220428T135027Z
LAST-MODIFIED:20220428T135027Z
UID:10000519-1651449600-1651708799@southernimplants.com
SUMMARY:Public Holiday: Ramazan Bayrami
DESCRIPTION:
URL:https://southernimplants.com/sims-event/public-holiday-ramazan-bayrami-2/
CATEGORIES:Turkey
END:VEVENT
BEGIN:VEVENT
DTSTART;VALUE=DATE:20220504
DTEND;VALUE=DATE:20220505
DTSTAMP:20260420T231110
CREATED:20220428T142159Z
LAST-MODIFIED:20220428T142159Z
UID:10000541-1651622400-1651708799@southernimplants.com
SUMMARY:Public Holiday: Cassinga Day
DESCRIPTION:
URL:https://southernimplants.com/sims-event/public-holiday-cassinga-day-2/
CATEGORIES:Namibia
END:VEVENT
BEGIN:VEVENT
DTSTART;VALUE=DATE:20220509
DTEND;VALUE=DATE:20220511
DTSTAMP:20260420T231110
CREATED:20220428T140546Z
LAST-MODIFIED:20220428T140546Z
UID:10000526-1652054400-1652227199@southernimplants.com
SUMMARY:Public Holiday: Victory Day
DESCRIPTION:
URL:https://southernimplants.com/sims-event/public-holiday-victory-day-2-2/
CATEGORIES:Russia
END:VEVENT
BEGIN:VEVENT
DTSTART;TZID=Europe/Helsinki:20220512T080000
DTEND;TZID=Europe/Helsinki:20220513T170000
DTSTAMP:20260420T231110
CREATED:20220428T115111Z
LAST-MODIFIED:20220428T115111Z
UID:10000486-1652342400-1652461200@southernimplants.com
SUMMARY:Zygomatic Course
DESCRIPTION:
URL:https://southernimplants.com/sims-event/zygomatic-course-2/
LOCATION:University Medical Center (UMC) Utrecht\, Netherlands
END:VEVENT
BEGIN:VEVENT
DTSTART;TZID=Europe/Helsinki:20220513T080000
DTEND;TZID=Europe/Helsinki:20220513T170000
DTSTAMP:20260420T231110
CREATED:20220428T114525Z
LAST-MODIFIED:20220428T114525Z
UID:10000485-1652428800-1652461200@southernimplants.com
SUMMARY:Crown Lengthening
DESCRIPTION:Presented by Dr Howard Gluckmann
URL:https://southernimplants.com/sims-event/crown-lengthening-2/
LOCATION:Implant and Aesthetic Academy (IAA)\, Cape Town\, South Africa
CATEGORIES:SI HQ
END:VEVENT
BEGIN:VEVENT
DTSTART;TZID=Europe/Helsinki:20220514T080000
DTEND;TZID=Europe/Helsinki:20220514T170000
DTSTAMP:20260420T231110
CREATED:20220428T123828Z
LAST-MODIFIED:20220428T123828Z
UID:10000495-1652515200-1652547600@southernimplants.com
SUMMARY:Osseodensification Hands-on Training
DESCRIPTION:Optimize the Site – Optimize the Outcome™ \nPresented by: Dr Costa Nicolopoulos\, Dr Petros Yuvanoglu
URL:https://southernimplants.com/sims-event/osseodensification-hands-on-training-2-2/
LOCATION:NEODENT\, Thessaloniki\, Greece
CATEGORIES:Greece
ATTACH;FMTTYPE=image/jpeg:https://southernimplants.com/wp-content/uploads/Osseodensification-Hands-on-Training-May2022.jpg
END:VEVENT
BEGIN:VEVENT
DTSTART;VALUE=DATE:20220519
DTEND;VALUE=DATE:20220520
DTSTAMP:20260420T231110
CREATED:20220428T135137Z
LAST-MODIFIED:20220428T135137Z
UID:10000520-1652918400-1653004799@southernimplants.com
SUMMARY:Public Holiday: Youth and Sports Day
DESCRIPTION:
URL:https://southernimplants.com/sims-event/public-holiday-youth-and-sports-day-2/
CATEGORIES:Turkey
END:VEVENT
BEGIN:VEVENT
DTSTART;TZID=Europe/Helsinki:20220519T190000
DTEND;TZID=Europe/Helsinki:20220519T200000
DTSTAMP:20260420T231110
CREATED:20220525T131553Z
LAST-MODIFIED:20220525T131553Z
UID:10000606-1652986800-1652990400@southernimplants.com
SUMMARY:Webinar: SIREAL Guided Surgery System
DESCRIPTION:Presented by Dr Charles Malthieu and Dr Antoine Blandel
URL:https://southernimplants.com/sims-event/webinar-sireal-guided-surgery-system-2/
CATEGORIES:France
END:VEVENT
BEGIN:VEVENT
DTSTART;TZID=Europe/Helsinki:20220524T190000
DTEND;TZID=Europe/Helsinki:20220524T200000
DTSTAMP:20260420T231110
CREATED:20220525T131338Z
LAST-MODIFIED:20220525T131338Z
UID:10000605-1653418800-1653422400@southernimplants.com
SUMMARY:IT Connection Webinar: Just do IT
DESCRIPTION:Presented by Dr Charles Malthieu and Dr Arnaud Deudon
URL:https://southernimplants.com/sims-event/it-connection-webinar-just-do-it-2/
CATEGORIES:France
END:VEVENT
BEGIN:VEVENT
DTSTART;VALUE=DATE:20220525
DTEND;VALUE=DATE:20220526
DTSTAMP:20260420T231110
CREATED:20220428T142335Z
LAST-MODIFIED:20220428T142335Z
UID:10000237-1653436800-1653523199@southernimplants.com
SUMMARY:Public Holiday: Africa Day
DESCRIPTION:
URL:https://southernimplants.com/sims-event/public-holiday-africa-day/
CATEGORIES:Namibia
END:VEVENT
BEGIN:VEVENT
DTSTART;VALUE=DATE:20220526
DTEND;VALUE=DATE:20220527
DTSTAMP:20260420T231110
CREATED:20220428T142413Z
LAST-MODIFIED:20220429T065208Z
UID:10000238-1653523200-1653609599@southernimplants.com
SUMMARY:Public Holiday: Ascension Day
DESCRIPTION:
URL:https://southernimplants.com/sims-event/public-holiday-ascension-day/
END:VEVENT
BEGIN:VEVENT
DTSTART;VALUE=DATE:20220526
DTEND;VALUE=DATE:20220527
DTSTAMP:20260420T231110
CREATED:20220428T142413Z
LAST-MODIFIED:20220428T142413Z
UID:10000543-1653523200-1653609599@southernimplants.com
SUMMARY:Public Holiday: Ascension Day
DESCRIPTION:
URL:https://southernimplants.com/sims-event/public-holiday-ascension-day-6/
END:VEVENT
BEGIN:VEVENT
DTSTART;VALUE=DATE:20220526
DTEND;VALUE=DATE:20220527
DTSTAMP:20260420T231110
CREATED:20220429T064327Z
LAST-MODIFIED:20220429T064327Z
UID:10000253-1653523200-1653609599@southernimplants.com
SUMMARY:Public Holiday: Ascension Day
DESCRIPTION:
URL:https://southernimplants.com/sims-event/public-holiday-ascension-day-2/
CATEGORIES:Germany
END:VEVENT
BEGIN:VEVENT
DTSTART;VALUE=DATE:20220526
DTEND;VALUE=DATE:20220527
DTSTAMP:20260420T231110
CREATED:20220429T065035Z
LAST-MODIFIED:20220429T065035Z
UID:10000261-1653523200-1653609599@southernimplants.com
SUMMARY:Public Holiday: Ascension Day
DESCRIPTION:
URL:https://southernimplants.com/sims-event/public-holiday-ascension-day-3/
CATEGORIES:France
END:VEVENT
BEGIN:VEVENT
DTSTART;VALUE=DATE:20220526
DTEND;VALUE=DATE:20220527
DTSTAMP:20260420T231110
CREATED:20220429T065222Z
LAST-MODIFIED:20220429T065222Z
UID:10000263-1653523200-1653609599@southernimplants.com
SUMMARY:Public Holiday: Ascension Day
DESCRIPTION:
URL:https://southernimplants.com/sims-event/public-holiday-ascension-day-4/
CATEGORIES:Namibia
END:VEVENT
BEGIN:VEVENT
DTSTART;VALUE=DATE:20220526
DTEND;VALUE=DATE:20220527
DTSTAMP:20260420T231110
CREATED:20220429T080625Z
LAST-MODIFIED:20220429T080625Z
UID:10000591-1653523200-1653609599@southernimplants.com
SUMMARY:Public Holiday: Ascension Day
DESCRIPTION:
URL:https://southernimplants.com/sims-event/public-holiday-ascension-day-5-2/
CATEGORIES:Belgium
END:VEVENT
BEGIN:VEVENT
DTSTART;VALUE=DATE:20220526
DTEND;VALUE=DATE:20220530
DTSTAMP:20260420T231110
CREATED:20220525T133207Z
LAST-MODIFIED:20220525T133207Z
UID:10000607-1653523200-1653868799@southernimplants.com
SUMMARY:Crete Conference
DESCRIPTION:Dr Nikos Krombas will speak on S.I. at Crete conference
URL:https://southernimplants.com/sims-event/crete-conference-2/
CATEGORIES:Greece
END:VEVENT
BEGIN:VEVENT
DTSTART;TZID=Europe/Helsinki:20220526T080000
DTEND;TZID=Europe/Helsinki:20220528T170000
DTSTAMP:20260420T231110
CREATED:20211025T140826Z
LAST-MODIFIED:20211025T140826Z
UID:10000478-1653552000-1653757200@southernimplants.com
SUMMARY:ADI Team Meeting
DESCRIPTION:A Masterclass in Immediacy \nPresented by: Dr Dominic O’Hooley\, Dr Guy McLellan & Dr Riz Syed
URL:https://southernimplants.com/sims-event/adi-team-meeting-2/
LOCATION:Manchester
CATEGORIES:UK & Ireland
END:VEVENT
BEGIN:VEVENT
DTSTART;TZID=Europe/Helsinki:20220526T180000
DTEND;TZID=Europe/Helsinki:20220526T200000
DTSTAMP:20260420T231110
CREATED:20220428T114140Z
LAST-MODIFIED:20220428T114140Z
UID:10000484-1653588000-1653595200@southernimplants.com
SUMMARY:SICON 2022 Report
DESCRIPTION:How SICON2022 fueled my passion: Increasing efficiency in implant dentistry using Southern’s site-specific implants. \nLecture by Dr D van Vuuren
URL:https://southernimplants.com/sims-event/sicon-2022-report-2/
LOCATION:Radisson Blu Hotel\, Beach Road\, Granger Bay\, Waterfront\, Cape Town\, South Africa
CATEGORIES:SI HQ
END:VEVENT
BEGIN:VEVENT
DTSTART;TZID=Europe/Helsinki:20220527T080000
DTEND;TZID=Europe/Helsinki:20220528T170000
DTSTAMP:20260420T231110
CREATED:20220428T115356Z
LAST-MODIFIED:20220428T115356Z
UID:10000487-1653638400-1653757200@southernimplants.com
SUMMARY:Orthodontics – Module 3
DESCRIPTION:Presented by Dr Howard Gluckmann
URL:https://southernimplants.com/sims-event/orthodontics-module-3-2/
LOCATION:Implant and Aesthetic Academy (IAA)\, Cape Town\, South Africa
CATEGORIES:SI HQ
END:VEVENT
BEGIN:VEVENT
DTSTART;VALUE=DATE:20220530
DTEND;VALUE=DATE:20220531
DTSTAMP:20260420T231110
CREATED:20220429T072239Z
LAST-MODIFIED:20220429T072239Z
UID:10000581-1653868800-1653955199@southernimplants.com
SUMMARY:Public Holiday: Memorial Day
DESCRIPTION:
URL:https://southernimplants.com/sims-event/public-holiday-memorial-day-2/
CATEGORIES:USA and Canada
END:VEVENT
BEGIN:VEVENT
DTSTART;VALUE=DATE:20220602
DTEND;VALUE=DATE:20220603
DTSTAMP:20260420T231110
CREATED:20220428T142726Z
LAST-MODIFIED:20220428T142726Z
UID:10000547-1654128000-1654214399@southernimplants.com
SUMMARY:Public Holiday: Republic Day
DESCRIPTION:
URL:https://southernimplants.com/sims-event/public-holiday-republic-day-3-2/
CATEGORIES:Italy
END:VEVENT
BEGIN:VEVENT
DTSTART;VALUE=DATE:20220602
DTEND;VALUE=DATE:20220603
DTSTAMP:20260420T231110
CREATED:20220429T065930Z
LAST-MODIFIED:20220429T065930Z
UID:10000576-1654128000-1654214399@southernimplants.com
SUMMARY:Public Holiday: Late May Bank Holiday
DESCRIPTION:
URL:https://southernimplants.com/sims-event/public-holiday-late-may-bank-holiday-2/
CATEGORIES:UK & Ireland
END:VEVENT
BEGIN:VEVENT
DTSTART;VALUE=DATE:20220603
DTEND;VALUE=DATE:20220604
DTSTAMP:20260420T231110
CREATED:20220429T070033Z
LAST-MODIFIED:20220429T070033Z
UID:10000577-1654214400-1654300799@southernimplants.com
SUMMARY:Public Holiday: Her Majesty The Queen's Platinum Jubilee
DESCRIPTION:
URL:https://southernimplants.com/sims-event/public-holiday-her-majesty-the-queens-platinum-jubilee-2/
CATEGORIES:UK & Ireland
END:VEVENT
END:VCALENDAR