BEGIN:VCALENDAR
VERSION:2.0
PRODID:-//Southern Implants - ECPv6.15.20//NONSGML v1.0//EN
CALSCALE:GREGORIAN
METHOD:PUBLISH
X-ORIGINAL-URL:https://southernimplants.com
X-WR-CALDESC:Events for Southern Implants
REFRESH-INTERVAL;VALUE=DURATION:PT1H
X-Robots-Tag:noindex
X-PUBLISHED-TTL:PT1H
BEGIN:VTIMEZONE
TZID:Africa/Harare
BEGIN:STANDARD
TZOFFSETFROM:+0200
TZOFFSETTO:+0200
TZNAME:CAT
DTSTART:20240101T000000
END:STANDARD
END:VTIMEZONE
BEGIN:VEVENT
DTSTART;VALUE=DATE:20251004
DTEND;VALUE=DATE:20251005
DTSTAMP:20260420T162220
CREATED:20250902T150637Z
LAST-MODIFIED:20250902T150702Z
UID:10001042-1759536000-1759622399@southernimplants.com
SUMMARY:The Pterygoid Course with Dr Rudi Mukherjee
DESCRIPTION:
URL:https://southernimplants.com/sims-event/the-pterygoid-course-with-dr-rudi-mukherjee/
CATEGORIES:UK & Ireland
END:VEVENT
END:VCALENDAR