BEGIN:VCALENDAR
VERSION:2.0
PRODID:-//Southern Implants - ECPv6.15.20//NONSGML v1.0//EN
CALSCALE:GREGORIAN
METHOD:PUBLISH
X-ORIGINAL-URL:https://southernimplants.com
X-WR-CALDESC:Events for Southern Implants
REFRESH-INTERVAL;VALUE=DURATION:PT1H
X-Robots-Tag:noindex
X-PUBLISHED-TTL:PT1H
BEGIN:VTIMEZONE
TZID:Africa/Harare
BEGIN:STANDARD
TZOFFSETFROM:+0200
TZOFFSETTO:+0200
TZNAME:CAT
DTSTART:20220101T000000
END:STANDARD
END:VTIMEZONE
BEGIN:VEVENT
DTSTART;VALUE=DATE:20231201
DTEND;VALUE=DATE:20231203
DTSTAMP:20260421T225825
CREATED:20221017T124850Z
LAST-MODIFIED:20221017T124850Z
UID:10000645-1701388800-1701561599@southernimplants.com
SUMMARY:IAA: IIP with PET – UK
DESCRIPTION:Presented by Dr Howard Gluckman\, Implant & Aesthetic Academy
URL:https://southernimplants.com/sims-event/iip-with-pet-uk-2023-2/
LOCATION:TBC
CATEGORIES:UK & Ireland
END:VEVENT
END:VCALENDAR