BEGIN:VCALENDAR
VERSION:2.0
PRODID:-//Southern Implants - ECPv6.15.20//NONSGML v1.0//EN
CALSCALE:GREGORIAN
METHOD:PUBLISH
X-ORIGINAL-URL:https://southernimplants.com
X-WR-CALDESC:Events for Southern Implants
REFRESH-INTERVAL;VALUE=DURATION:PT1H
X-Robots-Tag:noindex
X-PUBLISHED-TTL:PT1H
BEGIN:VTIMEZONE
TZID:Africa/Harare
BEGIN:STANDARD
TZOFFSETFROM:+0200
TZOFFSETTO:+0200
TZNAME:CAT
DTSTART:20220101T000000
END:STANDARD
END:VTIMEZONE
BEGIN:VEVENT
DTSTART;VALUE=DATE:20230317
DTEND;VALUE=DATE:20230319
DTSTAMP:20260422T125118
CREATED:20221214T121729Z
LAST-MODIFIED:20221214T121729Z
UID:10000669-1679011200-1679183999@southernimplants.com
SUMMARY:Optimising aesthetics & biologics with emphasis on soft tissue grafting procedures around dental implants
DESCRIPTION:Dr Kushal Gadhia \nRegistration and enquiries: softtisuedentalimplants@gmail.com
URL:https://southernimplants.com/sims-event/optimising-aesthetics-biologics-2/
CATEGORIES:UK & Ireland
END:VEVENT
END:VCALENDAR