BEGIN:VCALENDAR
VERSION:2.0
PRODID:-//Southern Implants - ECPv6.15.20//NONSGML v1.0//EN
CALSCALE:GREGORIAN
METHOD:PUBLISH
X-WR-CALNAME:Southern Implants
X-ORIGINAL-URL:https://southernimplants.com
X-WR-CALDESC:Events for Southern Implants
REFRESH-INTERVAL;VALUE=DURATION:PT1H
X-Robots-Tag:noindex
X-PUBLISHED-TTL:PT1H
BEGIN:VTIMEZONE
TZID:Africa/Harare
BEGIN:STANDARD
TZOFFSETFROM:+0200
TZOFFSETTO:+0200
TZNAME:CAT
DTSTART:20220101T000000
END:STANDARD
END:VTIMEZONE
BEGIN:VEVENT
DTSTART;VALUE=DATE:20230830
DTEND;VALUE=DATE:20230903
DTSTAMP:20260422T020135
CREATED:20230629T061049Z
LAST-MODIFIED:20230629T061049Z
UID:10000757-1693353600-1693699199@southernimplants.com
SUMMARY:International College of Prosthodontists (ICP)
DESCRIPTION:International College of Prosthodontists (ICP) – London Symposium – Satellite Meeting \nMain Symposium is taking place in Shanghai\, China (14 – 17 October 2023)
URL:https://southernimplants.com/sims-event/international-college-of-prosthodontists-icp/
LOCATION:Kings College London\, Guy’s Campus\, London\, United Kingdom
CATEGORIES:UK & Ireland
END:VEVENT
BEGIN:VEVENT
DTSTART;VALUE=DATE:20230929
DTEND;VALUE=DATE:20231001
DTSTAMP:20260422T020135
CREATED:20230324T090805Z
LAST-MODIFIED:20230324T090805Z
UID:10000735-1695945600-1696118399@southernimplants.com
SUMMARY:Hands-on Training: Zygomatic\, Nazalus\, Trans-Sinus & Pterygoid Implants
DESCRIPTION:With Z.M.I.T Zygomatic Minimally Invasive Technique \nProf. Cemal Ucer\, Prof. Andrea Tedesco\, Mr Luca Innocenti
URL:https://southernimplants.com/sims-event/hands-on-training-zygomatic-nazalus-trans-sinus-pterygoid-implants-2/
LOCATION:ICE Postgraduate Dental Institute and Hospital\, 24 Furness Quay\, Salford\, Manchestor M50 3XZ\, United Kingdom
CATEGORIES:Italy,UK & Ireland
ATTACH;FMTTYPE=image/jpeg:https://southernimplants.com/wp-content/uploads/Hands-on_Italy_Sep2023.jpg
END:VEVENT
END:VCALENDAR