BEGIN:VCALENDAR
VERSION:2.0
PRODID:-//Southern Implants - ECPv6.15.20//NONSGML v1.0//EN
CALSCALE:GREGORIAN
METHOD:PUBLISH
X-ORIGINAL-URL:https://southernimplants.com
X-WR-CALDESC:Events for Southern Implants
REFRESH-INTERVAL;VALUE=DURATION:PT1H
X-Robots-Tag:noindex
X-PUBLISHED-TTL:PT1H
BEGIN:VTIMEZONE
TZID:Africa/Harare
BEGIN:STANDARD
TZOFFSETFROM:+0200
TZOFFSETTO:+0200
TZNAME:CAT
DTSTART:20220101T000000
END:STANDARD
END:VTIMEZONE
BEGIN:VEVENT
DTSTART;VALUE=DATE:20230504
DTEND;VALUE=DATE:20230507
DTSTAMP:20260422T080709
CREATED:20230119T142056Z
LAST-MODIFIED:20230119T142056Z
UID:10000677-1683158400-1683417599@southernimplants.com
SUMMARY:ADI Team Congress
DESCRIPTION:
URL:https://southernimplants.com/sims-event/adi-team-congress-2023-2/
LOCATION:The International Convention Centre\, Birmingham\, United Kingdom
CATEGORIES:UK & Ireland
END:VEVENT
BEGIN:VEVENT
DTSTART;VALUE=DATE:20230526
DTEND;VALUE=DATE:20230529
DTSTAMP:20260422T080709
CREATED:20230509T105503Z
LAST-MODIFIED:20230519T055509Z
UID:10000453-1685059200-1685318399@southernimplants.com
SUMMARY:UK Course in Cascais
DESCRIPTION:
URL:https://southernimplants.com/sims-event/uk-course-in-cascais/
LOCATION:Southern Implants Training Facility (Cascais)\, Cascais\, Portugal
CATEGORIES:Portugal,UK & Ireland
END:VEVENT
END:VCALENDAR