BEGIN:VCALENDAR
VERSION:2.0
PRODID:-//Southern Implants - ECPv6.15.20//NONSGML v1.0//EN
CALSCALE:GREGORIAN
METHOD:PUBLISH
X-ORIGINAL-URL:https://southernimplants.com
X-WR-CALDESC:Events for Southern Implants
REFRESH-INTERVAL;VALUE=DURATION:PT1H
X-Robots-Tag:noindex
X-PUBLISHED-TTL:PT1H
BEGIN:VTIMEZONE
TZID:Europe/Helsinki
BEGIN:DAYLIGHT
TZOFFSETFROM:+0200
TZOFFSETTO:+0300
TZNAME:EEST
DTSTART:20210328T010000
END:DAYLIGHT
BEGIN:STANDARD
TZOFFSETFROM:+0300
TZOFFSETTO:+0200
TZNAME:EET
DTSTART:20211031T010000
END:STANDARD
BEGIN:DAYLIGHT
TZOFFSETFROM:+0200
TZOFFSETTO:+0300
TZNAME:EEST
DTSTART:20220327T010000
END:DAYLIGHT
BEGIN:STANDARD
TZOFFSETFROM:+0300
TZOFFSETTO:+0200
TZNAME:EET
DTSTART:20221030T010000
END:STANDARD
BEGIN:DAYLIGHT
TZOFFSETFROM:+0200
TZOFFSETTO:+0300
TZNAME:EEST
DTSTART:20230326T010000
END:DAYLIGHT
BEGIN:STANDARD
TZOFFSETFROM:+0300
TZOFFSETTO:+0200
TZNAME:EET
DTSTART:20231029T010000
END:STANDARD
END:VTIMEZONE
BEGIN:VEVENT
DTSTART;TZID=Europe/Helsinki:20220910T080000
DTEND;TZID=Europe/Helsinki:20220910T170000
DTSTAMP:20260422T204109
CREATED:20220624T125109Z
LAST-MODIFIED:20220624T125109Z
UID:10000312-1662796800-1662829200@southernimplants.com
SUMMARY:Platelet rich fibrin in oral surgery & implant dentistry
DESCRIPTION:Presented by Dr Stavros Eleftheriou and Dr Riz Syed
URL:https://southernimplants.com/sims-event/platelet-rich-fibrin-in-oral-surgery-implant-dentistry/
LOCATION:Clayton Chiswick Hotel\, London\, United Kingdom
CATEGORIES:UK & Ireland
END:VEVENT
BEGIN:VEVENT
DTSTART;TZID=Europe/Helsinki:20220913T190000
DTEND;TZID=Europe/Helsinki:20220913T200000
DTSTAMP:20260422T204109
CREATED:20220829T075130Z
LAST-MODIFIED:20220829T075130Z
UID:10000320-1663095600-1663099200@southernimplants.com
SUMMARY:Webinar by Dr Riz Syed: Full Arch Cases utilising Zygomatic and Nazalus Implants in combination with EthOss®
DESCRIPTION:The webinar will cover: \n\nFull arch immediate loading in the resorbed maxilla\nZygomatic implants – techniques and protocols for successful placement and grafting\nNazalus implants and grafting\nUsing EthOss to future-proof zygomatic and nazalus implants\n\n  \nClick here to register for this webinar.
URL:https://southernimplants.com/sims-event/webinar-by-dr-riz-syed-full-arch-cases-utilising-zygomatic-and-nazalus-implants-in-combination-with-ethoss/
CATEGORIES:UK & Ireland
END:VEVENT
END:VCALENDAR