BEGIN:VCALENDAR
VERSION:2.0
PRODID:-//Southern Implants - ECPv6.15.20//NONSGML v1.0//EN
CALSCALE:GREGORIAN
METHOD:PUBLISH
X-ORIGINAL-URL:https://southernimplants.com
X-WR-CALDESC:Events for Southern Implants
REFRESH-INTERVAL;VALUE=DURATION:PT1H
X-Robots-Tag:noindex
X-PUBLISHED-TTL:PT1H
BEGIN:VTIMEZONE
TZID:Africa/Harare
BEGIN:STANDARD
TZOFFSETFROM:+0200
TZOFFSETTO:+0200
TZNAME:CAT
DTSTART:20240101T000000
END:STANDARD
END:VTIMEZONE
BEGIN:VEVENT
DTSTART;VALUE=DATE:20251212
DTEND;VALUE=DATE:20251213
DTSTAMP:20260424T183617
CREATED:20250728T123916Z
LAST-MODIFIED:20250728T124028Z
UID:10001023-1765497600-1765583999@southernimplants.com
SUMMARY:The use of Pterygoid implants in Full-arch reconstructions
DESCRIPTION:Dr Tomasz Kaczynski \nThe use of Pterygoid implants in full-arch reconstructions. \nWarsaw\, Poland
URL:https://southernimplants.com/sims-event/the-use-of-pterygoid-implants-in-full-arch-reconstructions/
CATEGORIES:Poland
END:VEVENT
END:VCALENDAR