BEGIN:VCALENDAR
VERSION:2.0
PRODID:-//Southern Implants - ECPv6.15.20//NONSGML v1.0//EN
CALSCALE:GREGORIAN
METHOD:PUBLISH
X-ORIGINAL-URL:https://southernimplants.com
X-WR-CALDESC:Events for Southern Implants
REFRESH-INTERVAL;VALUE=DURATION:PT1H
X-Robots-Tag:noindex
X-PUBLISHED-TTL:PT1H
BEGIN:VTIMEZONE
TZID:Africa/Harare
BEGIN:STANDARD
TZOFFSETFROM:+0200
TZOFFSETTO:+0200
TZNAME:CAT
DTSTART:20250101T000000
END:STANDARD
END:VTIMEZONE
BEGIN:VEVENT
DTSTART;VALUE=DATE:20260530
DTEND;VALUE=DATE:20260531
DTSTAMP:20260421T193337
CREATED:20260312T074122Z
LAST-MODIFIED:20260312T074150Z
UID:10001151-1780099200-1780185599@southernimplants.com
SUMMARY:Practical Session with the SFRPMF
DESCRIPTION:Société Française de Réhabilitation et Prothèse Maxillo-Faciale
URL:https://southernimplants.com/sims-event/practical-session-with-the-sfrpmf/
CATEGORIES:France
END:VEVENT
BEGIN:VEVENT
DTSTART;VALUE=DATE:20260617
DTEND;VALUE=DATE:20260620
DTSTAMP:20260421T193337
CREATED:20260312T074256Z
LAST-MODIFIED:20260312T074256Z
UID:10001152-1781654400-1781913599@southernimplants.com
SUMMARY:Clermont DUIB (University activity)
DESCRIPTION:
URL:https://southernimplants.com/sims-event/clermont-duib-university-activity/
CATEGORIES:France
END:VEVENT
BEGIN:VEVENT
DTSTART;VALUE=DATE:20260918
DTEND;VALUE=DATE:20260919
DTSTAMP:20260421T193337
CREATED:20260318T053253Z
LAST-MODIFIED:20260318T053509Z
UID:10001156-1789689600-1789775999@southernimplants.com
SUMMARY:Full Arch Meeting (France)
DESCRIPTION:https://www.billetweb.fr/full-arch-meeting
URL:https://southernimplants.com/sims-event/full-arch-meeting-france/
CATEGORIES:France
END:VEVENT
END:VCALENDAR