BEGIN:VCALENDAR
VERSION:2.0
PRODID:-//Southern Implants - ECPv6.15.20//NONSGML v1.0//EN
CALSCALE:GREGORIAN
METHOD:PUBLISH
X-WR-CALNAME:Southern Implants
X-ORIGINAL-URL:https://southernimplants.com
X-WR-CALDESC:Events for Southern Implants
REFRESH-INTERVAL;VALUE=DURATION:PT1H
X-Robots-Tag:noindex
X-PUBLISHED-TTL:PT1H
BEGIN:VTIMEZONE
TZID:Africa/Harare
BEGIN:STANDARD
TZOFFSETFROM:+0200
TZOFFSETTO:+0200
TZNAME:CAT
DTSTART:20250101T000000
END:STANDARD
END:VTIMEZONE
BEGIN:VEVENT
DTSTART;VALUE=DATE:20260501
DTEND;VALUE=DATE:20260502
DTSTAMP:20260421T051620
CREATED:20260206T093838Z
LAST-MODIFIED:20260206T093838Z
UID:10001137-1777593600-1777679999@southernimplants.com
SUMMARY:*Dr Gamborena Hands-on (Tecnoss Dental & Ostralos)
DESCRIPTION:
URL:https://southernimplants.com/sims-event/dr-gamborena-hands-on-tecnoss-dental-ostralos/
CATEGORIES:New Zealand
END:VEVENT
END:VCALENDAR