BEGIN:VCALENDAR
VERSION:2.0
PRODID:-//Southern Implants - ECPv6.15.20//NONSGML v1.0//EN
CALSCALE:GREGORIAN
METHOD:PUBLISH
X-ORIGINAL-URL:https://southernimplants.com
X-WR-CALDESC:Events for Southern Implants
REFRESH-INTERVAL;VALUE=DURATION:PT1H
X-Robots-Tag:noindex
X-PUBLISHED-TTL:PT1H
BEGIN:VTIMEZONE
TZID:Africa/Harare
BEGIN:STANDARD
TZOFFSETFROM:+0200
TZOFFSETTO:+0200
TZNAME:CAT
DTSTART:20240101T000000
END:STANDARD
END:VTIMEZONE
BEGIN:VTIMEZONE
TZID:Europe/Helsinki
BEGIN:DAYLIGHT
TZOFFSETFROM:+0200
TZOFFSETTO:+0300
TZNAME:EEST
DTSTART:20210328T010000
END:DAYLIGHT
BEGIN:STANDARD
TZOFFSETFROM:+0300
TZOFFSETTO:+0200
TZNAME:EET
DTSTART:20211031T010000
END:STANDARD
BEGIN:DAYLIGHT
TZOFFSETFROM:+0200
TZOFFSETTO:+0300
TZNAME:EEST
DTSTART:20220327T010000
END:DAYLIGHT
BEGIN:STANDARD
TZOFFSETFROM:+0300
TZOFFSETTO:+0200
TZNAME:EET
DTSTART:20221030T010000
END:STANDARD
BEGIN:DAYLIGHT
TZOFFSETFROM:+0200
TZOFFSETTO:+0300
TZNAME:EEST
DTSTART:20230326T010000
END:DAYLIGHT
BEGIN:STANDARD
TZOFFSETFROM:+0300
TZOFFSETTO:+0200
TZNAME:EET
DTSTART:20231029T010000
END:STANDARD
END:VTIMEZONE
BEGIN:VEVENT
DTSTART;VALUE=DATE:20250801
DTEND;VALUE=DATE:20250803
DTSTAMP:20260421T064719
CREATED:20250408T085815Z
LAST-MODIFIED:20250408T090725Z
UID:10000977-1754006400-1754179199@southernimplants.com
SUMMARY:ANZAOMS New Zealand Branch ASM 2025
DESCRIPTION:
URL:https://southernimplants.com/sims-event/anzaoms-new-zealand-branch-asm-2025/
CATEGORIES:New Zealand
END:VEVENT
BEGIN:VEVENT
DTSTART;VALUE=DATE:20250731
DTEND;VALUE=DATE:20250801
DTSTAMP:20260421T064719
CREATED:20250314T071445Z
LAST-MODIFIED:20250314T071445Z
UID:10000967-1753920000-1754006399@southernimplants.com
SUMMARY:ANZAOMS Pre-Conference Workshop – Pterygoid Implant Hands-On
DESCRIPTION:
URL:https://southernimplants.com/sims-event/anzaoms-pre-conference-workshop-pterygoid-implant-hands-on/
CATEGORIES:New Zealand
END:VEVENT
BEGIN:VEVENT
DTSTART;VALUE=DATE:20250621
DTEND;VALUE=DATE:20250623
DTSTAMP:20260421T064719
CREATED:20250417T100525Z
LAST-MODIFIED:20250417T103140Z
UID:10000990-1750464000-1750636799@southernimplants.com
SUMMARY:Origins Education – NZ
DESCRIPTION:
URL:https://southernimplants.com/sims-event/origins-education-nz/
CATEGORIES:New Zealand
END:VEVENT
BEGIN:VEVENT
DTSTART;VALUE=DATE:20221227
DTEND;VALUE=DATE:20221228
DTSTAMP:20260421T064719
CREATED:20220428T142115Z
LAST-MODIFIED:20220428T142115Z
UID:10000235-1672099200-1672185599@southernimplants.com
SUMMARY:Public Holiday: Christmas Day (in lieu)
DESCRIPTION:
URL:https://southernimplants.com/sims-event/public-holiday-christmas-day-in-lieu/
CATEGORIES:New Zealand
END:VEVENT
BEGIN:VEVENT
DTSTART;VALUE=DATE:20221226
DTEND;VALUE=DATE:20221227
DTSTAMP:20260421T064719
CREATED:20220428T142033Z
LAST-MODIFIED:20220428T142033Z
UID:10000539-1672012800-1672099199@southernimplants.com
SUMMARY:Public Holiday: Boxing Day
DESCRIPTION:
URL:https://southernimplants.com/sims-event/public-holiday-boxing-day-3/
CATEGORIES:New Zealand
END:VEVENT
BEGIN:VEVENT
DTSTART;VALUE=DATE:20221024
DTEND;VALUE=DATE:20221025
DTSTAMP:20260421T064719
CREATED:20220428T141933Z
LAST-MODIFIED:20220428T141933Z
UID:10000233-1666569600-1666655999@southernimplants.com
SUMMARY:Public Holiday: Labour Day
DESCRIPTION:
URL:https://southernimplants.com/sims-event/public-holiday-labour-day-2/
CATEGORIES:New Zealand
END:VEVENT
BEGIN:VEVENT
DTSTART;VALUE=DATE:20220624
DTEND;VALUE=DATE:20220625
DTSTAMP:20260421T064719
CREATED:20220428T141845Z
LAST-MODIFIED:20220428T141845Z
UID:10000537-1656028800-1656115199@southernimplants.com
SUMMARY:Public Holiday: Matariki
DESCRIPTION:
URL:https://southernimplants.com/sims-event/public-holiday-matariki-2/
CATEGORIES:New Zealand
END:VEVENT
BEGIN:VEVENT
DTSTART;VALUE=DATE:20220606
DTEND;VALUE=DATE:20220607
DTSTAMP:20260421T064719
CREATED:20220428T141809Z
LAST-MODIFIED:20220428T141809Z
UID:10000536-1654473600-1654559999@southernimplants.com
SUMMARY:Public Holiday: Queen's Birthday
DESCRIPTION:
URL:https://southernimplants.com/sims-event/public-holiday-queens-birthday-2/
CATEGORIES:New Zealand
END:VEVENT
END:VCALENDAR