BEGIN:VCALENDAR
VERSION:2.0
PRODID:-//Southern Implants - ECPv6.15.20//NONSGML v1.0//EN
CALSCALE:GREGORIAN
METHOD:PUBLISH
X-ORIGINAL-URL:https://southernimplants.com
X-WR-CALDESC:Events for Southern Implants
REFRESH-INTERVAL;VALUE=DURATION:PT1H
X-Robots-Tag:noindex
X-PUBLISHED-TTL:PT1H
BEGIN:VTIMEZONE
TZID:Africa/Harare
BEGIN:STANDARD
TZOFFSETFROM:+0200
TZOFFSETTO:+0200
TZNAME:CAT
DTSTART:20220101T000000
END:STANDARD
END:VTIMEZONE
BEGIN:VEVENT
DTSTART;VALUE=DATE:20230113
DTEND;VALUE=DATE:20230114
DTSTAMP:20260421T113817
CREATED:20230113T094557Z
LAST-MODIFIED:20260212T032815Z
UID:10000673-1673568000-1673654399@southernimplants.com
SUMMARY:Introduction to Implant Placement
DESCRIPTION:A 2-Day Course that Introduces Attendees to Placing Dental Implants. \n𝗪𝗵𝗲𝗿𝗲: South Australia \n\n𝗪𝗵𝗲𝗻: 4th & 5th February 2023 (Saturday/Sunday)\n𝗖𝗣𝗗: 16 points
URL:https://southernimplants.com/sims-event/introduction-to-implant-placement-2023-2/
CATEGORIES:Australia
END:VEVENT
END:VCALENDAR